BEGIN:VCALENDAR
VERSION:2.0
PRODID:-//DVS-Koto Misi - ECPv6.15.20//NONSGML v1.0//EN
CALSCALE:GREGORIAN
METHOD:PUBLISH
X-ORIGINAL-URL:https://dvs-kotomisi.nl
X-WR-CALDESC:Evenementen voor DVS-Koto Misi
REFRESH-INTERVAL;VALUE=DURATION:PT1H
X-Robots-Tag:noindex
X-PUBLISHED-TTL:PT1H
BEGIN:VTIMEZONE
TZID:Europe/Amsterdam
BEGIN:DAYLIGHT
TZOFFSETFROM:+0100
TZOFFSETTO:+0200
TZNAME:CEST
DTSTART:20210328T010000
END:DAYLIGHT
BEGIN:STANDARD
TZOFFSETFROM:+0200
TZOFFSETTO:+0100
TZNAME:CET
DTSTART:20211031T010000
END:STANDARD
BEGIN:DAYLIGHT
TZOFFSETFROM:+0100
TZOFFSETTO:+0200
TZNAME:CEST
DTSTART:20220327T010000
END:DAYLIGHT
BEGIN:STANDARD
TZOFFSETFROM:+0200
TZOFFSETTO:+0100
TZNAME:CET
DTSTART:20221030T010000
END:STANDARD
BEGIN:DAYLIGHT
TZOFFSETFROM:+0100
TZOFFSETTO:+0200
TZNAME:CEST
DTSTART:20230326T010000
END:DAYLIGHT
BEGIN:STANDARD
TZOFFSETFROM:+0200
TZOFFSETTO:+0100
TZNAME:CET
DTSTART:20231029T010000
END:STANDARD
END:VTIMEZONE
BEGIN:VEVENT
DTSTART;TZID=Europe/Amsterdam:20220116T100000
DTEND;TZID=Europe/Amsterdam:20220116T110000
DTSTAMP:20260424T050406
CREATED:20211230T154541Z
LAST-MODIFIED:20211230T154541Z
UID:17963-1642327200-1642330800@dvs-kotomisi.nl
SUMMARY:DVS Bootcamp
DESCRIPTION:De DVS Bootcamp is een gratis outdoor bootcamp voor ieder niveau en iedere leeftijd (we raden aan 10+ jaar). Ook niet-DVS’ers zijn van harte welkom! Aanmelden is niet nodig. \nThe DVS bootcamp is a free outdoor bootcamp for all levels and ages (we recommend 10+ years old). The bootcamp is also available for friends or family (non-members). Registration is not needed.
URL:https://dvs-kotomisi.nl/activiteit/dvs-bootcamp-3/
LOCATION:Sportpark Lunetten\, Oude Liesbosweg 14\, Utrecht\, 3524 WZ\, Nederland
CATEGORIES:Corona
END:VEVENT
BEGIN:VEVENT
DTSTART;TZID=Europe/Amsterdam:20220109T100000
DTEND;TZID=Europe/Amsterdam:20220109T110000
DTSTAMP:20260424T050406
CREATED:20211230T154516Z
LAST-MODIFIED:20211230T154516Z
UID:17962-1641722400-1641726000@dvs-kotomisi.nl
SUMMARY:DVS Bootcamp
DESCRIPTION:De DVS Bootcamp is een gratis outdoor bootcamp voor ieder niveau en iedere leeftijd (we raden aan 10+ jaar). Ook niet-DVS’ers zijn van harte welkom! Aanmelden is niet nodig. \nThe DVS bootcamp is a free outdoor bootcamp for all levels and ages (we recommend 10+ years old). The bootcamp is also available for friends or family (non-members). Registration is not needed.
URL:https://dvs-kotomisi.nl/activiteit/dvs-bootcamp-2/
LOCATION:Sportpark Lunetten\, Oude Liesbosweg 14\, Utrecht\, 3524 WZ\, Nederland
CATEGORIES:Corona
END:VEVENT
BEGIN:VEVENT
DTSTART;TZID=Europe/Amsterdam:20220102T100000
DTEND;TZID=Europe/Amsterdam:20220102T110000
DTSTAMP:20260424T050406
CREATED:20211230T154449Z
LAST-MODIFIED:20211230T154449Z
UID:17964-1641117600-1641121200@dvs-kotomisi.nl
SUMMARY:DVS Bootcamp
DESCRIPTION:De DVS Bootcamp is een gratis outdoor bootcamp voor ieder niveau en iedere leeftijd (we raden aan 10+ jaar). Ook niet-DVS’ers zijn van harte welkom! Aanmelden is niet nodig. \nThe DVS bootcamp is a free outdoor bootcamp for all levels and ages (we recommend 10+ years old). The bootcamp is also available for friends or family (non-members). Registration is not needed.
URL:https://dvs-kotomisi.nl/activiteit/dvs-bootcamp/
LOCATION:Sportpark Lunetten\, Oude Liesbosweg 14\, Utrecht\, 3524 WZ\, Nederland
CATEGORIES:Corona
END:VEVENT
END:VCALENDAR