BEGIN:VCALENDAR
VERSION:2.0
PRODID:-//DVS-Koto Misi - ECPv6.15.20//NONSGML v1.0//EN
CALSCALE:GREGORIAN
METHOD:PUBLISH
X-ORIGINAL-URL:https://dvs-kotomisi.nl
X-WR-CALDESC:Evenementen voor DVS-Koto Misi
REFRESH-INTERVAL;VALUE=DURATION:PT1H
X-Robots-Tag:noindex
X-PUBLISHED-TTL:PT1H
BEGIN:VTIMEZONE
TZID:Europe/Amsterdam
BEGIN:DAYLIGHT
TZOFFSETFROM:+0100
TZOFFSETTO:+0200
TZNAME:CEST
DTSTART:20240331T010000
END:DAYLIGHT
BEGIN:STANDARD
TZOFFSETFROM:+0200
TZOFFSETTO:+0100
TZNAME:CET
DTSTART:20241027T010000
END:STANDARD
BEGIN:DAYLIGHT
TZOFFSETFROM:+0100
TZOFFSETTO:+0200
TZNAME:CEST
DTSTART:20250330T010000
END:DAYLIGHT
BEGIN:STANDARD
TZOFFSETFROM:+0200
TZOFFSETTO:+0100
TZNAME:CET
DTSTART:20251026T010000
END:STANDARD
BEGIN:DAYLIGHT
TZOFFSETFROM:+0100
TZOFFSETTO:+0200
TZNAME:CEST
DTSTART:20260329T010000
END:DAYLIGHT
BEGIN:STANDARD
TZOFFSETFROM:+0200
TZOFFSETTO:+0100
TZNAME:CET
DTSTART:20261025T010000
END:STANDARD
BEGIN:DAYLIGHT
TZOFFSETFROM:+0100
TZOFFSETTO:+0200
TZNAME:CEST
DTSTART:20270328T010000
END:DAYLIGHT
BEGIN:STANDARD
TZOFFSETFROM:+0200
TZOFFSETTO:+0100
TZNAME:CET
DTSTART:20271031T010000
END:STANDARD
END:VTIMEZONE
BEGIN:VEVENT
DTSTART;TZID=Europe/Amsterdam:20251124T190000
DTEND;TZID=Europe/Amsterdam:20251124T200000
DTSTAMP:20260421T044034
CREATED:20250805T101811Z
LAST-MODIFIED:20251117T130621Z
UID:30083-1764010800-1764014400@dvs-kotomisi.nl
SUMMARY:Training volwassenen: recreatief beginners 20251124 19
DESCRIPTION:Let op: voor deze training is reserveren noodzakelijk. Je mag 1 x per week deelnemen aan een training. \nAttention: for this training session\, a reservation is required. Everyone can join 1 training session a week.
URL:https://dvs-kotomisi.nl/activiteit/training-volwassenen-recreatief-beginners-20251124-19/
LOCATION:Sporthal Hoograven\, Verlengde Hoogravenseweg 203\, Utrecht\, 3523 KJ\, Nederland
CATEGORIES:Recreatieve training
END:VEVENT
BEGIN:VEVENT
DTSTART;TZID=Europe/Amsterdam:20251124T200000
DTEND;TZID=Europe/Amsterdam:20251124T210000
DTSTAMP:20260421T044034
CREATED:20250805T102010Z
LAST-MODIFIED:20251117T130641Z
UID:30120-1764014400-1764018000@dvs-kotomisi.nl
SUMMARY:Training volwassenen: recreatief 20251124 20
DESCRIPTION:Let op: voor deze training is reserveren noodzakelijk. Je mag 1 x per week deelnemen aan een training. \nAttention: for this training session\, a reservation is required. Everyone can join 1 training session a week.
URL:https://dvs-kotomisi.nl/activiteit/training-volwassenen-recreatief-20251124-20/
LOCATION:Sporthal Hoograven\, Verlengde Hoogravenseweg 203\, Utrecht\, 3523 KJ\, Nederland
CATEGORIES:Recreatieve training
END:VEVENT
BEGIN:VEVENT
DTSTART;TZID=Europe/Amsterdam:20251126T190000
DTEND;TZID=Europe/Amsterdam:20251126T200000
DTSTAMP:20260421T044034
CREATED:20250805T102610Z
LAST-MODIFIED:20251117T131214Z
UID:30191-1764183600-1764187200@dvs-kotomisi.nl
SUMMARY:Training volwassenen: recreatief 20251126 19
DESCRIPTION:Let op: voor deze training is reserveren noodzakelijk. Je mag 1 x per week deelnemen aan een training. \nAttention: for this training session\, a reservation is required. Everyone can join 1 training session a week.
URL:https://dvs-kotomisi.nl/activiteit/training-volwassenen-recreatief-20251126-19/
LOCATION:Sporthal Hoograven\, Verlengde Hoogravenseweg 203\, Utrecht\, 3523 KJ\, Nederland
CATEGORIES:Recreatieve training
END:VEVENT
BEGIN:VEVENT
DTSTART;TZID=Europe/Amsterdam:20251126T200000
DTEND;TZID=Europe/Amsterdam:20251126T210000
DTSTAMP:20260421T044034
CREATED:20250805T103509Z
LAST-MODIFIED:20251117T131153Z
UID:30226-1764187200-1764190800@dvs-kotomisi.nl
SUMMARY:Training volwassenen: recreatief 20251126 20
DESCRIPTION:Let op: voor deze training is reserveren noodzakelijk. Je mag 1 x per week deelnemen aan een training. \nAttention: for this training session\, a reservation is required. Everyone can join 1 training session a week.
URL:https://dvs-kotomisi.nl/activiteit/training-volwassenen-recreatief-20251126-20/
LOCATION:Sporthal Hoograven\, Verlengde Hoogravenseweg 203\, Utrecht\, 3523 KJ\, Nederland
CATEGORIES:Recreatieve training
END:VEVENT
BEGIN:VEVENT
DTSTART;TZID=Europe/Amsterdam:20251128T190000
DTEND;TZID=Europe/Amsterdam:20251128T203000
DTSTAMP:20260421T044034
CREATED:20250805T105517Z
LAST-MODIFIED:20251117T131239Z
UID:30299-1764356400-1764361800@dvs-kotomisi.nl
SUMMARY:Training volwassenen: recreatief 20251128 19
DESCRIPTION:Let op: voor deze training is reserveren noodzakelijk. Je mag 1 x per week deelnemen aan een training. \nAttention: for this training session\, a reservation is required. Everyone can join 1 training session a week.
URL:https://dvs-kotomisi.nl/activiteit/training-volwassenen-recreatief-20251128-19/
LOCATION:Sporthal Bontekoelaan\, Bontekoelaan 1\, Utrecht\, 3526 RA\, Nederland
CATEGORIES:Recreatieve training
END:VEVENT
BEGIN:VEVENT
DTSTART;TZID=Europe/Amsterdam:20251201T190000
DTEND;TZID=Europe/Amsterdam:20251201T200000
DTSTAMP:20260421T044034
CREATED:20250805T101811Z
LAST-MODIFIED:20251123T151340Z
UID:30084-1764615600-1764619200@dvs-kotomisi.nl
SUMMARY:Training volwassenen: recreatief beginners 20251201 19
DESCRIPTION:Let op: voor deze training is reserveren noodzakelijk. Je mag 1 x per week deelnemen aan een training. \nAttention: for this training session\, a reservation is required. Everyone can join 1 training session a week.
URL:https://dvs-kotomisi.nl/activiteit/training-volwassenen-recreatief-beginners-20251201-19/
LOCATION:Sporthal Hoograven\, Verlengde Hoogravenseweg 203\, Utrecht\, 3523 KJ\, Nederland
CATEGORIES:Recreatieve training
END:VEVENT
BEGIN:VEVENT
DTSTART;TZID=Europe/Amsterdam:20251201T200000
DTEND;TZID=Europe/Amsterdam:20251201T210000
DTSTAMP:20260421T044034
CREATED:20250805T102011Z
LAST-MODIFIED:20251123T151321Z
UID:30121-1764619200-1764622800@dvs-kotomisi.nl
SUMMARY:Training volwassenen: recreatief 20251201 20
DESCRIPTION:Let op: voor deze training is reserveren noodzakelijk. Je mag 1 x per week deelnemen aan een training. \nAttention: for this training session\, a reservation is required. Everyone can join 1 training session a week.
URL:https://dvs-kotomisi.nl/activiteit/training-volwassenen-recreatief-20251201-20/
LOCATION:Sporthal Hoograven\, Verlengde Hoogravenseweg 203\, Utrecht\, 3523 KJ\, Nederland
CATEGORIES:Recreatieve training
END:VEVENT
BEGIN:VEVENT
DTSTART;TZID=Europe/Amsterdam:20251203T190000
DTEND;TZID=Europe/Amsterdam:20251203T200000
DTSTAMP:20260421T044034
CREATED:20250805T102610Z
LAST-MODIFIED:20251123T151413Z
UID:30192-1764788400-1764792000@dvs-kotomisi.nl
SUMMARY:Training volwassenen: recreatief 20251203 19
DESCRIPTION:Let op: voor deze training is reserveren noodzakelijk. Je mag 1 x per week deelnemen aan een training. \nAttention: for this training session\, a reservation is required. Everyone can join 1 training session a week.
URL:https://dvs-kotomisi.nl/activiteit/training-volwassenen-recreatief-20251203-19/
LOCATION:Sporthal Hoograven\, Verlengde Hoogravenseweg 203\, Utrecht\, 3523 KJ\, Nederland
CATEGORIES:Recreatieve training
END:VEVENT
BEGIN:VEVENT
DTSTART;TZID=Europe/Amsterdam:20251203T200000
DTEND;TZID=Europe/Amsterdam:20251203T210000
DTSTAMP:20260421T044034
CREATED:20250805T103509Z
LAST-MODIFIED:20251123T151449Z
UID:30227-1764792000-1764795600@dvs-kotomisi.nl
SUMMARY:Training volwassenen: recreatief 20251203 20
DESCRIPTION:Let op: voor deze training is reserveren noodzakelijk. Je mag 1 x per week deelnemen aan een training. \nAttention: for this training session\, a reservation is required. Everyone can join 1 training session a week.
URL:https://dvs-kotomisi.nl/activiteit/training-volwassenen-recreatief-20251203-20/
LOCATION:Sporthal Hoograven\, Verlengde Hoogravenseweg 203\, Utrecht\, 3523 KJ\, Nederland
CATEGORIES:Recreatieve training
END:VEVENT
BEGIN:VEVENT
DTSTART;TZID=Europe/Amsterdam:20251205T190000
DTEND;TZID=Europe/Amsterdam:20251205T203000
DTSTAMP:20260421T044034
CREATED:20250805T105517Z
LAST-MODIFIED:20251123T151509Z
UID:30300-1764961200-1764966600@dvs-kotomisi.nl
SUMMARY:Training volwassenen: recreatief 20251205 19
DESCRIPTION:Let op: voor deze training is reserveren noodzakelijk. Je mag 1 x per week deelnemen aan een training. \nAttention: for this training session\, a reservation is required. Everyone can join 1 training session a week.
URL:https://dvs-kotomisi.nl/activiteit/training-volwassenen-recreatief-20251205-19/
LOCATION:Sporthal Bontekoelaan\, Bontekoelaan 1\, Utrecht\, 3526 RA\, Nederland
CATEGORIES:Recreatieve training
END:VEVENT
BEGIN:VEVENT
DTSTART;TZID=Europe/Amsterdam:20251208T190000
DTEND;TZID=Europe/Amsterdam:20251208T200000
DTSTAMP:20260421T044034
CREATED:20250805T101825Z
LAST-MODIFIED:20251123T151612Z
UID:30085-1765220400-1765224000@dvs-kotomisi.nl
SUMMARY:Training volwassenen: recreatief beginners 20251208 19
DESCRIPTION:Let op: voor deze training is reserveren noodzakelijk. Je mag 1 x per week deelnemen aan een training. \nAttention: for this training session\, a reservation is required. Everyone can join 1 training session a week.
URL:https://dvs-kotomisi.nl/activiteit/training-volwassenen-recreatief-beginners-20251208-19/
LOCATION:Sporthal Hoograven\, Verlengde Hoogravenseweg 203\, Utrecht\, 3523 KJ\, Nederland
CATEGORIES:Recreatieve training
END:VEVENT
BEGIN:VEVENT
DTSTART;TZID=Europe/Amsterdam:20251208T200000
DTEND;TZID=Europe/Amsterdam:20251208T210000
DTSTAMP:20260421T044034
CREATED:20250805T102011Z
LAST-MODIFIED:20251123T151629Z
UID:30122-1765224000-1765227600@dvs-kotomisi.nl
SUMMARY:Training volwassenen: recreatief 20251208 20
DESCRIPTION:Let op: voor deze training is reserveren noodzakelijk. Je mag 1 x per week deelnemen aan een training. \nAttention: for this training session\, a reservation is required. Everyone can join 1 training session a week.
URL:https://dvs-kotomisi.nl/activiteit/training-volwassenen-recreatief-20251208-20/
LOCATION:Sporthal Hoograven\, Verlengde Hoogravenseweg 203\, Utrecht\, 3523 KJ\, Nederland
CATEGORIES:Recreatieve training
END:VEVENT
BEGIN:VEVENT
DTSTART;TZID=Europe/Amsterdam:20251210T190000
DTEND;TZID=Europe/Amsterdam:20251210T200000
DTSTAMP:20260421T044034
CREATED:20250805T102610Z
LAST-MODIFIED:20251123T151652Z
UID:30193-1765393200-1765396800@dvs-kotomisi.nl
SUMMARY:Training volwassenen: recreatief 20251210 19
DESCRIPTION:Let op: voor deze training is reserveren noodzakelijk. Je mag 1 x per week deelnemen aan een training. \nAttention: for this training session\, a reservation is required. Everyone can join 1 training session a week.
URL:https://dvs-kotomisi.nl/activiteit/training-volwassenen-recreatief-20251210-19/
LOCATION:Sporthal Hoograven\, Verlengde Hoogravenseweg 203\, Utrecht\, 3523 KJ\, Nederland
CATEGORIES:Recreatieve training
END:VEVENT
BEGIN:VEVENT
DTSTART;TZID=Europe/Amsterdam:20251210T200000
DTEND;TZID=Europe/Amsterdam:20251210T210000
DTSTAMP:20260421T044034
CREATED:20250805T103509Z
LAST-MODIFIED:20251123T151751Z
UID:30228-1765396800-1765400400@dvs-kotomisi.nl
SUMMARY:Training volwassenen: recreatief 20251210 20
DESCRIPTION:Let op: voor deze training is reserveren noodzakelijk. Je mag 1 x per week deelnemen aan een training. \nAttention: for this training session\, a reservation is required. Everyone can join 1 training session a week.
URL:https://dvs-kotomisi.nl/activiteit/training-volwassenen-recreatief-20251210-20/
LOCATION:Sporthal Hoograven\, Verlengde Hoogravenseweg 203\, Utrecht\, 3523 KJ\, Nederland
CATEGORIES:Recreatieve training
END:VEVENT
BEGIN:VEVENT
DTSTART;TZID=Europe/Amsterdam:20251212T190000
DTEND;TZID=Europe/Amsterdam:20251212T203000
DTSTAMP:20260421T044034
CREATED:20250805T105531Z
LAST-MODIFIED:20251123T151821Z
UID:30301-1765566000-1765571400@dvs-kotomisi.nl
SUMMARY:Training volwassenen: recreatief 20251212 19
DESCRIPTION:Let op: voor deze training is reserveren noodzakelijk. Je mag 1 x per week deelnemen aan een training. \nAttention: for this training session\, a reservation is required. Everyone can join 1 training session a week.
URL:https://dvs-kotomisi.nl/activiteit/training-volwassenen-recreatief-20251212-19/
LOCATION:Sporthal Bontekoelaan\, Bontekoelaan 1\, Utrecht\, 3526 RA\, Nederland
CATEGORIES:Recreatieve training
END:VEVENT
BEGIN:VEVENT
DTSTART;TZID=Europe/Amsterdam:20251215T190000
DTEND;TZID=Europe/Amsterdam:20251215T200000
DTSTAMP:20260421T044034
CREATED:20250805T101825Z
LAST-MODIFIED:20251123T151919Z
UID:30086-1765825200-1765828800@dvs-kotomisi.nl
SUMMARY:Training volwassenen: recreatief beginners 20251215 19
DESCRIPTION:Let op: voor deze training is reserveren noodzakelijk. Je mag 1 x per week deelnemen aan een training. \nAttention: for this training session\, a reservation is required. Everyone can join 1 training session a week.
URL:https://dvs-kotomisi.nl/activiteit/training-volwassenen-recreatief-beginners-20251215-19/
LOCATION:Sporthal Hoograven\, Verlengde Hoogravenseweg 203\, Utrecht\, 3523 KJ\, Nederland
CATEGORIES:Recreatieve training
END:VEVENT
BEGIN:VEVENT
DTSTART;TZID=Europe/Amsterdam:20251215T200000
DTEND;TZID=Europe/Amsterdam:20251215T210000
DTSTAMP:20260421T044034
CREATED:20250805T102011Z
LAST-MODIFIED:20251123T151938Z
UID:30123-1765828800-1765832400@dvs-kotomisi.nl
SUMMARY:Training volwassenen: recreatief 20251215 20
DESCRIPTION:Let op: voor deze training is reserveren noodzakelijk. Je mag 1 x per week deelnemen aan een training. \nAttention: for this training session\, a reservation is required. Everyone can join 1 training session a week.
URL:https://dvs-kotomisi.nl/activiteit/training-volwassenen-recreatief-20251215-20/
LOCATION:Sporthal Hoograven\, Verlengde Hoogravenseweg 203\, Utrecht\, 3523 KJ\, Nederland
CATEGORIES:Recreatieve training
END:VEVENT
BEGIN:VEVENT
DTSTART;TZID=Europe/Amsterdam:20251217T190000
DTEND;TZID=Europe/Amsterdam:20251217T200000
DTSTAMP:20260421T044034
CREATED:20250805T102810Z
LAST-MODIFIED:20251123T151955Z
UID:30194-1765998000-1766001600@dvs-kotomisi.nl
SUMMARY:Training volwassenen: recreatief 20251217 19
DESCRIPTION:Let op: voor deze training is reserveren noodzakelijk. Je mag 1 x per week deelnemen aan een training. \nAttention: for this training session\, a reservation is required. Everyone can join 1 training session a week.
URL:https://dvs-kotomisi.nl/activiteit/training-volwassenen-recreatief-20251217-19/
LOCATION:Sporthal Hoograven\, Verlengde Hoogravenseweg 203\, Utrecht\, 3523 KJ\, Nederland
CATEGORIES:Recreatieve training
END:VEVENT
BEGIN:VEVENT
DTSTART;TZID=Europe/Amsterdam:20251217T200000
DTEND;TZID=Europe/Amsterdam:20251217T210000
DTSTAMP:20260421T044034
CREATED:20250805T103708Z
LAST-MODIFIED:20251123T152014Z
UID:30229-1766001600-1766005200@dvs-kotomisi.nl
SUMMARY:Training volwassenen: recreatief 20251217 20
DESCRIPTION:Let op: voor deze training is reserveren noodzakelijk. Je mag 1 x per week deelnemen aan een training. \nAttention: for this training session\, a reservation is required. Everyone can join 1 training session a week.
URL:https://dvs-kotomisi.nl/activiteit/training-volwassenen-recreatief-20251217-20/
LOCATION:Sporthal Hoograven\, Verlengde Hoogravenseweg 203\, Utrecht\, 3523 KJ\, Nederland
CATEGORIES:Recreatieve training
END:VEVENT
BEGIN:VEVENT
DTSTART;TZID=Europe/Amsterdam:20251219T190000
DTEND;TZID=Europe/Amsterdam:20251219T203000
DTSTAMP:20260421T044034
CREATED:20250805T105531Z
LAST-MODIFIED:20251123T152051Z
UID:30302-1766170800-1766176200@dvs-kotomisi.nl
SUMMARY:Training volwassenen: recreatief 20251219 19
DESCRIPTION:Let op: voor deze training is reserveren noodzakelijk. Je mag 1 x per week deelnemen aan een training. \nAttention: for this training session\, a reservation is required. Everyone can join 1 training session a week.
URL:https://dvs-kotomisi.nl/activiteit/training-volwassenen-recreatief-20251219-19/
LOCATION:Sporthal Bontekoelaan\, Bontekoelaan 1\, Utrecht\, 3526 RA\, Nederland
CATEGORIES:Recreatieve training
END:VEVENT
BEGIN:VEVENT
DTSTART;TZID=Europe/Amsterdam:20251222T190000
DTEND;TZID=Europe/Amsterdam:20251222T200000
DTSTAMP:20260421T044034
CREATED:20250805T101826Z
LAST-MODIFIED:20251123T152147Z
UID:30087-1766430000-1766433600@dvs-kotomisi.nl
SUMMARY:Training volwassenen: recreatief beginners 20251222 19
DESCRIPTION:Let op: voor deze training is reserveren noodzakelijk. Je mag 1 x per week deelnemen aan een training. \nAttention: for this training session\, a reservation is required. Everyone can join 1 training session a week.
URL:https://dvs-kotomisi.nl/activiteit/training-volwassenen-recreatief-beginners-20251222-19/
LOCATION:Sporthal Hoograven\, Verlengde Hoogravenseweg 203\, Utrecht\, 3523 KJ\, Nederland
CATEGORIES:Recreatieve training
END:VEVENT
BEGIN:VEVENT
DTSTART;TZID=Europe/Amsterdam:20251222T200000
DTEND;TZID=Europe/Amsterdam:20251222T210000
DTSTAMP:20260421T044034
CREATED:20250805T102011Z
LAST-MODIFIED:20251123T152206Z
UID:30124-1766433600-1766437200@dvs-kotomisi.nl
SUMMARY:Training volwassenen: recreatief 20251222 20
DESCRIPTION:Let op: voor deze training is reserveren noodzakelijk. Je mag 1 x per week deelnemen aan een training. \nAttention: for this training session\, a reservation is required. Everyone can join 1 training session a week.
URL:https://dvs-kotomisi.nl/activiteit/training-volwassenen-recreatief-20251222-20/
LOCATION:Sporthal Hoograven\, Verlengde Hoogravenseweg 203\, Utrecht\, 3523 KJ\, Nederland
CATEGORIES:Recreatieve training
END:VEVENT
BEGIN:VEVENT
DTSTART;TZID=Europe/Amsterdam:20251229T190000
DTEND;TZID=Europe/Amsterdam:20251229T200000
DTSTAMP:20260421T044034
CREATED:20250805T101826Z
LAST-MODIFIED:20251123T152224Z
UID:30088-1767034800-1767038400@dvs-kotomisi.nl
SUMMARY:Training volwassenen: recreatief beginners 20251229 19
DESCRIPTION:Let op: voor deze training is reserveren noodzakelijk. Je mag 1 x per week deelnemen aan een training. \nAttention: for this training session\, a reservation is required. Everyone can join 1 training session a week.
URL:https://dvs-kotomisi.nl/activiteit/training-volwassenen-recreatief-beginners-20251229-19/
LOCATION:Sporthal Hoograven\, Verlengde Hoogravenseweg 203\, Utrecht\, 3523 KJ\, Nederland
CATEGORIES:Recreatieve training
END:VEVENT
BEGIN:VEVENT
DTSTART;TZID=Europe/Amsterdam:20251229T200000
DTEND;TZID=Europe/Amsterdam:20251229T210000
DTSTAMP:20260421T044034
CREATED:20250805T102026Z
LAST-MODIFIED:20251123T152246Z
UID:30125-1767038400-1767042000@dvs-kotomisi.nl
SUMMARY:Training volwassenen: recreatief 20251229 20
DESCRIPTION:Let op: voor deze training is reserveren noodzakelijk. Je mag 1 x per week deelnemen aan een training. \nAttention: for this training session\, a reservation is required. Everyone can join 1 training session a week.
URL:https://dvs-kotomisi.nl/activiteit/training-volwassenen-recreatief-20251229-20/
LOCATION:Sporthal Hoograven\, Verlengde Hoogravenseweg 203\, Utrecht\, 3523 KJ\, Nederland
CATEGORIES:Recreatieve training
END:VEVENT
BEGIN:VEVENT
DTSTART;TZID=Europe/Amsterdam:20260107T190000
DTEND;TZID=Europe/Amsterdam:20260107T200000
DTSTAMP:20260421T044034
CREATED:20250805T102810Z
LAST-MODIFIED:20260107T113452Z
UID:30195-1767812400-1767816000@dvs-kotomisi.nl
SUMMARY:Training volwassenen: recreatief 20260107 19 (GAAT NIET DOOR HAL GESLOTEN)
DESCRIPTION:Let op: voor deze training is reserveren noodzakelijk. Je mag 1 x per week deelnemen aan een training. \nAttention: for this training session\, a reservation is required. Everyone can join 1 training session a week.
URL:https://dvs-kotomisi.nl/activiteit/training-volwassenen-recreatief-20260107-19/
LOCATION:Sporthal Hoograven\, Verlengde Hoogravenseweg 203\, Utrecht\, 3523 KJ\, Nederland
CATEGORIES:Recreatieve training
END:VEVENT
BEGIN:VEVENT
DTSTART;TZID=Europe/Amsterdam:20260107T200000
DTEND;TZID=Europe/Amsterdam:20260107T210000
DTSTAMP:20260421T044034
CREATED:20250805T103708Z
LAST-MODIFIED:20260107T113513Z
UID:30230-1767816000-1767819600@dvs-kotomisi.nl
SUMMARY:Training volwassenen: recreatief 20260107 20 (GAAT NIET DOOR HAL GESLOTEN)
DESCRIPTION:Let op: voor deze training is reserveren noodzakelijk. Je mag 1 x per week deelnemen aan een training. \nAttention: for this training session\, a reservation is required. Everyone can join 1 training session a week.
URL:https://dvs-kotomisi.nl/activiteit/training-volwassenen-recreatief-20260107-20/
LOCATION:Sporthal Hoograven\, Verlengde Hoogravenseweg 203\, Utrecht\, 3523 KJ\, Nederland
CATEGORIES:Recreatieve training
END:VEVENT
BEGIN:VEVENT
DTSTART;TZID=Europe/Amsterdam:20260109T190000
DTEND;TZID=Europe/Amsterdam:20260109T203000
DTSTAMP:20260421T044034
CREATED:20250805T105531Z
LAST-MODIFIED:20251229T152005Z
UID:30304-1767985200-1767990600@dvs-kotomisi.nl
SUMMARY:Training volwassenen: recreatief 20260109 19
DESCRIPTION:Let op: voor deze training is reserveren noodzakelijk. Je mag 1 x per week deelnemen aan een training. \nAttention: for this training session\, a reservation is required. Everyone can join 1 training session a week.
URL:https://dvs-kotomisi.nl/activiteit/training-volwassenen-recreatief-20260109-19/
LOCATION:Sporthal Bontekoelaan\, Bontekoelaan 1\, Utrecht\, 3526 RA\, Nederland
CATEGORIES:Recreatieve training
END:VEVENT
BEGIN:VEVENT
DTSTART;TZID=Europe/Amsterdam:20260112T190000
DTEND;TZID=Europe/Amsterdam:20260112T200000
DTSTAMP:20260421T044034
CREATED:20250805T101826Z
LAST-MODIFIED:20260105T182155Z
UID:30089-1768244400-1768248000@dvs-kotomisi.nl
SUMMARY:Training volwassenen: recreatief beginners 20260112 19
DESCRIPTION:Let op: voor deze training is reserveren noodzakelijk. Je mag 1 x per week deelnemen aan een training. \nAttention: for this training session\, a reservation is required. Everyone can join 1 training session a week.
URL:https://dvs-kotomisi.nl/activiteit/training-volwassenen-recreatief-beginners-20260112-19/
LOCATION:Sporthal Hoograven\, Verlengde Hoogravenseweg 203\, Utrecht\, 3523 KJ\, Nederland
CATEGORIES:Recreatieve training
END:VEVENT
BEGIN:VEVENT
DTSTART;TZID=Europe/Amsterdam:20260112T200000
DTEND;TZID=Europe/Amsterdam:20260112T210000
DTSTAMP:20260421T044034
CREATED:20250805T102026Z
LAST-MODIFIED:20260105T182215Z
UID:30126-1768248000-1768251600@dvs-kotomisi.nl
SUMMARY:Training volwassenen: recreatief 20260112 20
DESCRIPTION:Let op: voor deze training is reserveren noodzakelijk. Je mag 1 x per week deelnemen aan een training. \nAttention: for this training session\, a reservation is required. Everyone can join 1 training session a week.
URL:https://dvs-kotomisi.nl/activiteit/training-volwassenen-recreatief-20260112-20/
LOCATION:Sporthal Hoograven\, Verlengde Hoogravenseweg 203\, Utrecht\, 3523 KJ\, Nederland
CATEGORIES:Recreatieve training
END:VEVENT
BEGIN:VEVENT
DTSTART;TZID=Europe/Amsterdam:20260114T190000
DTEND;TZID=Europe/Amsterdam:20260114T200000
DTSTAMP:20260421T044034
CREATED:20250805T102810Z
LAST-MODIFIED:20260105T182509Z
UID:30196-1768417200-1768420800@dvs-kotomisi.nl
SUMMARY:Training volwassenen: recreatief 20260114 19
DESCRIPTION:Let op: voor deze training is reserveren noodzakelijk. Je mag 1 x per week deelnemen aan een training. \nAttention: for this training session\, a reservation is required. Everyone can join 1 training session a week.
URL:https://dvs-kotomisi.nl/activiteit/training-volwassenen-recreatief-20260114-19/
LOCATION:Sporthal Hoograven\, Verlengde Hoogravenseweg 203\, Utrecht\, 3523 KJ\, Nederland
CATEGORIES:Recreatieve training
END:VEVENT
END:VCALENDAR