BEGIN:VCALENDAR
VERSION:2.0
PRODID:-//DVS-Koto Misi - ECPv6.15.20//NONSGML v1.0//EN
CALSCALE:GREGORIAN
METHOD:PUBLISH
X-ORIGINAL-URL:https://dvs-kotomisi.nl
X-WR-CALDESC:Evenementen voor DVS-Koto Misi
REFRESH-INTERVAL;VALUE=DURATION:PT1H
X-Robots-Tag:noindex
X-PUBLISHED-TTL:PT1H
BEGIN:VTIMEZONE
TZID:Europe/Amsterdam
BEGIN:DAYLIGHT
TZOFFSETFROM:+0100
TZOFFSETTO:+0200
TZNAME:CEST
DTSTART:20250330T010000
END:DAYLIGHT
BEGIN:STANDARD
TZOFFSETFROM:+0200
TZOFFSETTO:+0100
TZNAME:CET
DTSTART:20251026T010000
END:STANDARD
BEGIN:DAYLIGHT
TZOFFSETFROM:+0100
TZOFFSETTO:+0200
TZNAME:CEST
DTSTART:20260329T010000
END:DAYLIGHT
BEGIN:STANDARD
TZOFFSETFROM:+0200
TZOFFSETTO:+0100
TZNAME:CET
DTSTART:20261025T010000
END:STANDARD
BEGIN:DAYLIGHT
TZOFFSETFROM:+0100
TZOFFSETTO:+0200
TZNAME:CEST
DTSTART:20270328T010000
END:DAYLIGHT
BEGIN:STANDARD
TZOFFSETFROM:+0200
TZOFFSETTO:+0100
TZNAME:CET
DTSTART:20271031T010000
END:STANDARD
END:VTIMEZONE
BEGIN:VEVENT
DTSTART;TZID=Europe/Amsterdam:20260112T190000
DTEND;TZID=Europe/Amsterdam:20260112T200000
DTSTAMP:20260420T212351
CREATED:20250805T101826Z
LAST-MODIFIED:20260105T182155Z
UID:30089-1768244400-1768248000@dvs-kotomisi.nl
SUMMARY:Training volwassenen: recreatief beginners 20260112 19
DESCRIPTION:Let op: voor deze training is reserveren noodzakelijk. Je mag 1 x per week deelnemen aan een training. \nAttention: for this training session\, a reservation is required. Everyone can join 1 training session a week.
URL:https://dvs-kotomisi.nl/activiteit/training-volwassenen-recreatief-beginners-20260112-19/
LOCATION:Sporthal Hoograven\, Verlengde Hoogravenseweg 203\, Utrecht\, 3523 KJ\, Nederland
CATEGORIES:Recreatieve training
END:VEVENT
BEGIN:VEVENT
DTSTART;TZID=Europe/Amsterdam:20260112T200000
DTEND;TZID=Europe/Amsterdam:20260112T210000
DTSTAMP:20260420T212351
CREATED:20250805T102026Z
LAST-MODIFIED:20260105T182215Z
UID:30126-1768248000-1768251600@dvs-kotomisi.nl
SUMMARY:Training volwassenen: recreatief 20260112 20
DESCRIPTION:Let op: voor deze training is reserveren noodzakelijk. Je mag 1 x per week deelnemen aan een training. \nAttention: for this training session\, a reservation is required. Everyone can join 1 training session a week.
URL:https://dvs-kotomisi.nl/activiteit/training-volwassenen-recreatief-20260112-20/
LOCATION:Sporthal Hoograven\, Verlengde Hoogravenseweg 203\, Utrecht\, 3523 KJ\, Nederland
CATEGORIES:Recreatieve training
END:VEVENT
BEGIN:VEVENT
DTSTART;TZID=Europe/Amsterdam:20260114T190000
DTEND;TZID=Europe/Amsterdam:20260114T200000
DTSTAMP:20260420T212351
CREATED:20250805T102810Z
LAST-MODIFIED:20260105T182509Z
UID:30196-1768417200-1768420800@dvs-kotomisi.nl
SUMMARY:Training volwassenen: recreatief 20260114 19
DESCRIPTION:Let op: voor deze training is reserveren noodzakelijk. Je mag 1 x per week deelnemen aan een training. \nAttention: for this training session\, a reservation is required. Everyone can join 1 training session a week.
URL:https://dvs-kotomisi.nl/activiteit/training-volwassenen-recreatief-20260114-19/
LOCATION:Sporthal Hoograven\, Verlengde Hoogravenseweg 203\, Utrecht\, 3523 KJ\, Nederland
CATEGORIES:Recreatieve training
END:VEVENT
BEGIN:VEVENT
DTSTART;TZID=Europe/Amsterdam:20260114T200000
DTEND;TZID=Europe/Amsterdam:20260114T210000
DTSTAMP:20260420T212351
CREATED:20250805T103709Z
LAST-MODIFIED:20260105T182530Z
UID:30231-1768420800-1768424400@dvs-kotomisi.nl
SUMMARY:Training volwassenen: recreatief 20260114 20
DESCRIPTION:Let op: voor deze training is reserveren noodzakelijk. Je mag 1 x per week deelnemen aan een training. \nAttention: for this training session\, a reservation is required. Everyone can join 1 training session a week.
URL:https://dvs-kotomisi.nl/activiteit/training-volwassenen-recreatief-20260114-20/
LOCATION:Sporthal Hoograven\, Verlengde Hoogravenseweg 203\, Utrecht\, 3523 KJ\, Nederland
CATEGORIES:Recreatieve training
END:VEVENT
BEGIN:VEVENT
DTSTART;TZID=Europe/Amsterdam:20260116T190000
DTEND;TZID=Europe/Amsterdam:20260116T203000
DTSTAMP:20260420T212351
CREATED:20250805T105531Z
LAST-MODIFIED:20260105T182609Z
UID:30305-1768590000-1768595400@dvs-kotomisi.nl
SUMMARY:Training volwassenen: recreatief 20260116 19
DESCRIPTION:Let op: voor deze training is reserveren noodzakelijk. Je mag 1 x per week deelnemen aan een training. \nAttention: for this training session\, a reservation is required. Everyone can join 1 training session a week.
URL:https://dvs-kotomisi.nl/activiteit/training-volwassenen-recreatief-20260116-19/
LOCATION:Sporthal Bontekoelaan\, Bontekoelaan 1\, Utrecht\, 3526 RA\, Nederland
CATEGORIES:Recreatieve training
END:VEVENT
BEGIN:VEVENT
DTSTART;TZID=Europe/Amsterdam:20260119T190000
DTEND;TZID=Europe/Amsterdam:20260119T200000
DTSTAMP:20260420T212351
CREATED:20250805T101840Z
LAST-MODIFIED:20260112T132855Z
UID:30090-1768849200-1768852800@dvs-kotomisi.nl
SUMMARY:Training volwassenen: recreatief beginners 20260119 19
DESCRIPTION:Let op: voor deze training is reserveren noodzakelijk. Je mag 1 x per week deelnemen aan een training. \nAttention: for this training session\, a reservation is required. Everyone can join 1 training session a week.
URL:https://dvs-kotomisi.nl/activiteit/training-volwassenen-recreatief-beginners-20260119-19/
LOCATION:Sporthal Hoograven\, Verlengde Hoogravenseweg 203\, Utrecht\, 3523 KJ\, Nederland
CATEGORIES:Recreatieve training
END:VEVENT
BEGIN:VEVENT
DTSTART;TZID=Europe/Amsterdam:20260119T200000
DTEND;TZID=Europe/Amsterdam:20260119T210000
DTSTAMP:20260420T212351
CREATED:20250805T102026Z
LAST-MODIFIED:20260112T132919Z
UID:30127-1768852800-1768856400@dvs-kotomisi.nl
SUMMARY:Training volwassenen: recreatief 20260119 20
DESCRIPTION:Let op: voor deze training is reserveren noodzakelijk. Je mag 1 x per week deelnemen aan een training. \nAttention: for this training session\, a reservation is required. Everyone can join 1 training session a week.
URL:https://dvs-kotomisi.nl/activiteit/training-volwassenen-recreatief-20260119-20/
LOCATION:Sporthal Hoograven\, Verlengde Hoogravenseweg 203\, Utrecht\, 3523 KJ\, Nederland
CATEGORIES:Recreatieve training
END:VEVENT
BEGIN:VEVENT
DTSTART;TZID=Europe/Amsterdam:20260121T190000
DTEND;TZID=Europe/Amsterdam:20260121T200000
DTSTAMP:20260420T212351
CREATED:20250805T102810Z
LAST-MODIFIED:20260112T132942Z
UID:30197-1769022000-1769025600@dvs-kotomisi.nl
SUMMARY:Training volwassenen: recreatief 20260121 19
DESCRIPTION:Let op: voor deze training is reserveren noodzakelijk. Je mag 1 x per week deelnemen aan een training. \nAttention: for this training session\, a reservation is required. Everyone can join 1 training session a week.
URL:https://dvs-kotomisi.nl/activiteit/training-volwassenen-recreatief-20260121-19/
LOCATION:Sporthal Hoograven\, Verlengde Hoogravenseweg 203\, Utrecht\, 3523 KJ\, Nederland
CATEGORIES:Recreatieve training
END:VEVENT
BEGIN:VEVENT
DTSTART;TZID=Europe/Amsterdam:20260121T200000
DTEND;TZID=Europe/Amsterdam:20260121T210000
DTSTAMP:20260420T212351
CREATED:20250805T103709Z
LAST-MODIFIED:20260112T133006Z
UID:30232-1769025600-1769029200@dvs-kotomisi.nl
SUMMARY:Training volwassenen: recreatief 20260121 20
DESCRIPTION:Let op: voor deze training is reserveren noodzakelijk. Je mag 1 x per week deelnemen aan een training. \nAttention: for this training session\, a reservation is required. Everyone can join 1 training session a week.
URL:https://dvs-kotomisi.nl/activiteit/training-volwassenen-recreatief-20260121-20/
LOCATION:Sporthal Hoograven\, Verlengde Hoogravenseweg 203\, Utrecht\, 3523 KJ\, Nederland
CATEGORIES:Recreatieve training
END:VEVENT
BEGIN:VEVENT
DTSTART;TZID=Europe/Amsterdam:20260123T190000
DTEND;TZID=Europe/Amsterdam:20260123T203000
DTSTAMP:20260420T212351
CREATED:20250805T105546Z
LAST-MODIFIED:20260112T133449Z
UID:30306-1769194800-1769200200@dvs-kotomisi.nl
SUMMARY:Training volwassenen: recreatief 20260123 19
DESCRIPTION:Let op: voor deze training is reserveren noodzakelijk. Je mag 1 x per week deelnemen aan een training. \nAttention: for this training session\, a reservation is required. Everyone can join 1 training session a week.
URL:https://dvs-kotomisi.nl/activiteit/training-volwassenen-recreatief-20260123-19/
LOCATION:Sporthal Bontekoelaan\, Bontekoelaan 1\, Utrecht\, 3526 RA\, Nederland
CATEGORIES:Recreatieve training
END:VEVENT
BEGIN:VEVENT
DTSTART;TZID=Europe/Amsterdam:20260126T190000
DTEND;TZID=Europe/Amsterdam:20260126T200000
DTSTAMP:20260420T212351
CREATED:20250805T101841Z
LAST-MODIFIED:20260112T133541Z
UID:30091-1769454000-1769457600@dvs-kotomisi.nl
SUMMARY:Training volwassenen: recreatief beginners 20260126 19
DESCRIPTION:Let op: voor deze training is reserveren noodzakelijk. Je mag 1 x per week deelnemen aan een training. \nAttention: for this training session\, a reservation is required. Everyone can join 1 training session a week.
URL:https://dvs-kotomisi.nl/activiteit/training-volwassenen-recreatief-beginners-20260126-19/
LOCATION:Sporthal Hoograven\, Verlengde Hoogravenseweg 203\, Utrecht\, 3523 KJ\, Nederland
CATEGORIES:Recreatieve training
END:VEVENT
BEGIN:VEVENT
DTSTART;TZID=Europe/Amsterdam:20260126T200000
DTEND;TZID=Europe/Amsterdam:20260126T210000
DTSTAMP:20260420T212351
CREATED:20250805T102026Z
LAST-MODIFIED:20260112T133613Z
UID:30128-1769457600-1769461200@dvs-kotomisi.nl
SUMMARY:Training volwassenen: recreatief 20260126 20
DESCRIPTION:Let op: voor deze training is reserveren noodzakelijk. Je mag 1 x per week deelnemen aan een training. \nAttention: for this training session\, a reservation is required. Everyone can join 1 training session a week.
URL:https://dvs-kotomisi.nl/activiteit/training-volwassenen-recreatief-20260126-20/
LOCATION:Sporthal Hoograven\, Verlengde Hoogravenseweg 203\, Utrecht\, 3523 KJ\, Nederland
CATEGORIES:Recreatieve training
END:VEVENT
BEGIN:VEVENT
DTSTART;TZID=Europe/Amsterdam:20260128T190000
DTEND;TZID=Europe/Amsterdam:20260128T200000
DTSTAMP:20260420T212351
CREATED:20250805T102810Z
LAST-MODIFIED:20260112T133641Z
UID:30198-1769626800-1769630400@dvs-kotomisi.nl
SUMMARY:Training volwassenen: recreatief 20260128 19
DESCRIPTION:Let op: voor deze training is reserveren noodzakelijk. Je mag 1 x per week deelnemen aan een training. \nAttention: for this training session\, a reservation is required. Everyone can join 1 training session a week.
URL:https://dvs-kotomisi.nl/activiteit/training-volwassenen-recreatief-20260128-19/
LOCATION:Sporthal Hoograven\, Verlengde Hoogravenseweg 203\, Utrecht\, 3523 KJ\, Nederland
CATEGORIES:Recreatieve training
END:VEVENT
BEGIN:VEVENT
DTSTART;TZID=Europe/Amsterdam:20260128T200000
DTEND;TZID=Europe/Amsterdam:20260128T210000
DTSTAMP:20260420T212351
CREATED:20250805T103709Z
LAST-MODIFIED:20260112T133703Z
UID:30233-1769630400-1769634000@dvs-kotomisi.nl
SUMMARY:Training volwassenen: recreatief 20260128 20
DESCRIPTION:Let op: voor deze training is reserveren noodzakelijk. Je mag 1 x per week deelnemen aan een training. \nAttention: for this training session\, a reservation is required. Everyone can join 1 training session a week.
URL:https://dvs-kotomisi.nl/activiteit/training-volwassenen-recreatief-20260128-20/
LOCATION:Sporthal Hoograven\, Verlengde Hoogravenseweg 203\, Utrecht\, 3523 KJ\, Nederland
CATEGORIES:Recreatieve training
END:VEVENT
BEGIN:VEVENT
DTSTART;TZID=Europe/Amsterdam:20260130T190000
DTEND;TZID=Europe/Amsterdam:20260130T203000
DTSTAMP:20260420T212351
CREATED:20250805T105546Z
LAST-MODIFIED:20260112T134254Z
UID:30307-1769799600-1769805000@dvs-kotomisi.nl
SUMMARY:Training volwassenen: recreatief 20260130 19
DESCRIPTION:Let op: voor deze training is reserveren noodzakelijk. Je mag 1 x per week deelnemen aan een training. \nAttention: for this training session\, a reservation is required. Everyone can join 1 training session a week.
URL:https://dvs-kotomisi.nl/activiteit/training-volwassenen-recreatief-20260130-19/
LOCATION:Sporthal Bontekoelaan\, Bontekoelaan 1\, Utrecht\, 3526 RA\, Nederland
CATEGORIES:Recreatieve training
END:VEVENT
BEGIN:VEVENT
DTSTART;TZID=Europe/Amsterdam:20260202T190000
DTEND;TZID=Europe/Amsterdam:20260202T200000
DTSTAMP:20260420T212351
CREATED:20250805T101841Z
LAST-MODIFIED:20260126T142717Z
UID:30092-1770058800-1770062400@dvs-kotomisi.nl
SUMMARY:Training volwassenen: recreatief beginners 20260202 19
DESCRIPTION:Let op: voor deze training is reserveren noodzakelijk. Je mag 1 x per week deelnemen aan een training. \nAttention: for this training session\, a reservation is required. Everyone can join 1 training session a week.
URL:https://dvs-kotomisi.nl/activiteit/training-volwassenen-recreatief-beginners-20260202-19/
LOCATION:Sporthal Hoograven\, Verlengde Hoogravenseweg 203\, Utrecht\, 3523 KJ\, Nederland
CATEGORIES:Recreatieve training
END:VEVENT
BEGIN:VEVENT
DTSTART;TZID=Europe/Amsterdam:20260202T200000
DTEND;TZID=Europe/Amsterdam:20260202T210000
DTSTAMP:20260420T212351
CREATED:20250805T102026Z
LAST-MODIFIED:20260126T142747Z
UID:30129-1770062400-1770066000@dvs-kotomisi.nl
SUMMARY:Training volwassenen: recreatief 20260202 20
DESCRIPTION:Let op: voor deze training is reserveren noodzakelijk. Je mag 1 x per week deelnemen aan een training. \nAttention: for this training session\, a reservation is required. Everyone can join 1 training session a week.
URL:https://dvs-kotomisi.nl/activiteit/training-volwassenen-recreatief-20260202-20/
LOCATION:Sporthal Hoograven\, Verlengde Hoogravenseweg 203\, Utrecht\, 3523 KJ\, Nederland
CATEGORIES:Recreatieve training
END:VEVENT
BEGIN:VEVENT
DTSTART;TZID=Europe/Amsterdam:20260204T190000
DTEND;TZID=Europe/Amsterdam:20260204T200000
DTSTAMP:20260420T212351
CREATED:20250805T102937Z
LAST-MODIFIED:20260126T142808Z
UID:30199-1770231600-1770235200@dvs-kotomisi.nl
SUMMARY:Training volwassenen: recreatief 20260204 19
DESCRIPTION:Let op: voor deze training is reserveren noodzakelijk. Je mag 1 x per week deelnemen aan een training. \nAttention: for this training session\, a reservation is required. Everyone can join 1 training session a week.
URL:https://dvs-kotomisi.nl/activiteit/training-volwassenen-recreatief-20260204-19/
LOCATION:Sporthal Hoograven\, Verlengde Hoogravenseweg 203\, Utrecht\, 3523 KJ\, Nederland
CATEGORIES:Recreatieve training
END:VEVENT
BEGIN:VEVENT
DTSTART;TZID=Europe/Amsterdam:20260204T200000
DTEND;TZID=Europe/Amsterdam:20260204T210000
DTSTAMP:20260420T212351
CREATED:20250805T103909Z
LAST-MODIFIED:20260126T142838Z
UID:30234-1770235200-1770238800@dvs-kotomisi.nl
SUMMARY:Training volwassenen: recreatief 20260204 20
DESCRIPTION:Let op: voor deze training is reserveren noodzakelijk. Je mag 1 x per week deelnemen aan een training. \nAttention: for this training session\, a reservation is required. Everyone can join 1 training session a week.
URL:https://dvs-kotomisi.nl/activiteit/training-volwassenen-recreatief-20260204-20/
LOCATION:Sporthal Hoograven\, Verlengde Hoogravenseweg 203\, Utrecht\, 3523 KJ\, Nederland
CATEGORIES:Recreatieve training
END:VEVENT
BEGIN:VEVENT
DTSTART;TZID=Europe/Amsterdam:20260206T190000
DTEND;TZID=Europe/Amsterdam:20260206T203000
DTSTAMP:20260420T212351
CREATED:20250805T105546Z
LAST-MODIFIED:20260126T143005Z
UID:30308-1770404400-1770409800@dvs-kotomisi.nl
SUMMARY:Training volwassenen: recreatief 20260206 19
DESCRIPTION:Let op: voor deze training is reserveren noodzakelijk. Je mag 1 x per week deelnemen aan een training. \nAttention: for this training session\, a reservation is required. Everyone can join 1 training session a week.
URL:https://dvs-kotomisi.nl/activiteit/training-volwassenen-recreatief-20260206-19/
LOCATION:Sporthal Bontekoelaan\, Bontekoelaan 1\, Utrecht\, 3526 RA\, Nederland
CATEGORIES:Recreatieve training
END:VEVENT
BEGIN:VEVENT
DTSTART;TZID=Europe/Amsterdam:20260209T190000
DTEND;TZID=Europe/Amsterdam:20260209T200000
DTSTAMP:20260420T212351
CREATED:20250805T101841Z
LAST-MODIFIED:20260202T142448Z
UID:30093-1770663600-1770667200@dvs-kotomisi.nl
SUMMARY:Training volwassenen: recreatief beginners 20260209 19
DESCRIPTION:Let op: voor deze training is reserveren noodzakelijk. Je mag 1 x per week deelnemen aan een training. \nAttention: for this training session\, a reservation is required. Everyone can join 1 training session a week.
URL:https://dvs-kotomisi.nl/activiteit/training-volwassenen-recreatief-beginners-20260209-19/
LOCATION:Sporthal Hoograven\, Verlengde Hoogravenseweg 203\, Utrecht\, 3523 KJ\, Nederland
CATEGORIES:Recreatieve training
END:VEVENT
BEGIN:VEVENT
DTSTART;TZID=Europe/Amsterdam:20260209T200000
DTEND;TZID=Europe/Amsterdam:20260209T210000
DTSTAMP:20260420T212351
CREATED:20250805T102041Z
LAST-MODIFIED:20260202T142426Z
UID:30130-1770667200-1770670800@dvs-kotomisi.nl
SUMMARY:Training volwassenen: recreatief 20260209 20
DESCRIPTION:Let op: voor deze training is reserveren noodzakelijk. Je mag 1 x per week deelnemen aan een training. \nAttention: for this training session\, a reservation is required. Everyone can join 1 training session a week.
URL:https://dvs-kotomisi.nl/activiteit/training-volwassenen-recreatief-20260209-20/
LOCATION:Sporthal Hoograven\, Verlengde Hoogravenseweg 203\, Utrecht\, 3523 KJ\, Nederland
CATEGORIES:Recreatieve training
END:VEVENT
BEGIN:VEVENT
DTSTART;TZID=Europe/Amsterdam:20260211T190000
DTEND;TZID=Europe/Amsterdam:20260211T200000
DTSTAMP:20260420T212351
CREATED:20250805T102937Z
LAST-MODIFIED:20260202T142405Z
UID:30200-1770836400-1770840000@dvs-kotomisi.nl
SUMMARY:Training volwassenen: recreatief 20260211 19
DESCRIPTION:Let op: voor deze training is reserveren noodzakelijk. Je mag 1 x per week deelnemen aan een training. \nAttention: for this training session\, a reservation is required. Everyone can join 1 training session a week.
URL:https://dvs-kotomisi.nl/activiteit/training-volwassenen-recreatief-20260211-19/
LOCATION:Sporthal Hoograven\, Verlengde Hoogravenseweg 203\, Utrecht\, 3523 KJ\, Nederland
CATEGORIES:Recreatieve training
END:VEVENT
BEGIN:VEVENT
DTSTART;TZID=Europe/Amsterdam:20260211T200000
DTEND;TZID=Europe/Amsterdam:20260211T210000
DTSTAMP:20260420T212351
CREATED:20250805T103909Z
LAST-MODIFIED:20260202T142346Z
UID:30235-1770840000-1770843600@dvs-kotomisi.nl
SUMMARY:Training volwassenen: recreatief 20260211 20
DESCRIPTION:Let op: voor deze training is reserveren noodzakelijk. Je mag 1 x per week deelnemen aan een training. \nAttention: for this training session\, a reservation is required. Everyone can join 1 training session a week.
URL:https://dvs-kotomisi.nl/activiteit/training-volwassenen-recreatief-20260211-20/
LOCATION:Sporthal Hoograven\, Verlengde Hoogravenseweg 203\, Utrecht\, 3523 KJ\, Nederland
CATEGORIES:Recreatieve training
END:VEVENT
BEGIN:VEVENT
DTSTART;TZID=Europe/Amsterdam:20260213T190000
DTEND;TZID=Europe/Amsterdam:20260213T203000
DTSTAMP:20260420T212351
CREATED:20250805T105546Z
LAST-MODIFIED:20260209T132450Z
UID:30309-1771009200-1771014600@dvs-kotomisi.nl
SUMMARY:Training volwassenen: recreatief 20260213 19
DESCRIPTION:Let op: voor deze training is reserveren noodzakelijk. Je mag 1 x per week deelnemen aan een training. \nAttention: for this training session\, a reservation is required. Everyone can join 1 training session a week.
URL:https://dvs-kotomisi.nl/activiteit/training-volwassenen-recreatief-20260213-19/
LOCATION:Sporthal Bontekoelaan\, Bontekoelaan 1\, Utrecht\, 3526 RA\, Nederland
CATEGORIES:Recreatieve training
END:VEVENT
BEGIN:VEVENT
DTSTART;TZID=Europe/Amsterdam:20260216T190000
DTEND;TZID=Europe/Amsterdam:20260216T200000
DTSTAMP:20260420T212351
CREATED:20250805T101841Z
LAST-MODIFIED:20260209T132705Z
UID:30094-1771268400-1771272000@dvs-kotomisi.nl
SUMMARY:Training volwassenen: recreatief beginners 20260216 19
DESCRIPTION:Let op: voor deze training is reserveren noodzakelijk. Je mag 1 x per week deelnemen aan een training. \nAttention: for this training session\, a reservation is required. Everyone can join 1 training session a week.
URL:https://dvs-kotomisi.nl/activiteit/training-volwassenen-recreatief-beginners-20260216-19/
LOCATION:Sporthal Hoograven\, Verlengde Hoogravenseweg 203\, Utrecht\, 3523 KJ\, Nederland
CATEGORIES:Recreatieve training
END:VEVENT
BEGIN:VEVENT
DTSTART;TZID=Europe/Amsterdam:20260216T200000
DTEND;TZID=Europe/Amsterdam:20260216T210000
DTSTAMP:20260420T212351
CREATED:20250805T102041Z
LAST-MODIFIED:20260209T132725Z
UID:30131-1771272000-1771275600@dvs-kotomisi.nl
SUMMARY:Training volwassenen: recreatief 20260216 20
DESCRIPTION:Let op: voor deze training is reserveren noodzakelijk. Je mag 1 x per week deelnemen aan een training. \nAttention: for this training session\, a reservation is required. Everyone can join 1 training session a week.
URL:https://dvs-kotomisi.nl/activiteit/training-volwassenen-recreatief-20260216-20/
LOCATION:Sporthal Hoograven\, Verlengde Hoogravenseweg 203\, Utrecht\, 3523 KJ\, Nederland
CATEGORIES:Recreatieve training
END:VEVENT
BEGIN:VEVENT
DTSTART;TZID=Europe/Amsterdam:20260218T190000
DTEND;TZID=Europe/Amsterdam:20260218T200000
DTSTAMP:20260420T212351
CREATED:20250805T102937Z
LAST-MODIFIED:20260209T132851Z
UID:30201-1771441200-1771444800@dvs-kotomisi.nl
SUMMARY:Training volwassenen: recreatief 20260218 19
DESCRIPTION:Let op: voor deze training is reserveren noodzakelijk. Je mag 1 x per week deelnemen aan een training. \nAttention: for this training session\, a reservation is required. Everyone can join 1 training session a week.
URL:https://dvs-kotomisi.nl/activiteit/training-volwassenen-recreatief-20260218-19/
LOCATION:Sporthal Hoograven\, Verlengde Hoogravenseweg 203\, Utrecht\, 3523 KJ\, Nederland
CATEGORIES:Recreatieve training
END:VEVENT
BEGIN:VEVENT
DTSTART;TZID=Europe/Amsterdam:20260218T200000
DTEND;TZID=Europe/Amsterdam:20260218T210000
DTSTAMP:20260420T212351
CREATED:20250805T103909Z
LAST-MODIFIED:20260209T133004Z
UID:30236-1771444800-1771448400@dvs-kotomisi.nl
SUMMARY:Training volwassenen: recreatief 20260218 20
DESCRIPTION:Let op: voor deze training is reserveren noodzakelijk. Je mag 1 x per week deelnemen aan een training. \nAttention: for this training session\, a reservation is required. Everyone can join 1 training session a week.
URL:https://dvs-kotomisi.nl/activiteit/training-volwassenen-recreatief-20260218-20/
LOCATION:Sporthal Hoograven\, Verlengde Hoogravenseweg 203\, Utrecht\, 3523 KJ\, Nederland
CATEGORIES:Recreatieve training
END:VEVENT
BEGIN:VEVENT
DTSTART;TZID=Europe/Amsterdam:20260220T190000
DTEND;TZID=Europe/Amsterdam:20260220T203000
DTSTAMP:20260420T212351
CREATED:20250805T105546Z
LAST-MODIFIED:20260209T133039Z
UID:30310-1771614000-1771619400@dvs-kotomisi.nl
SUMMARY:Training volwassenen: recreatief 20260220 19
DESCRIPTION:Let op: voor deze training is reserveren noodzakelijk. Je mag 1 x per week deelnemen aan een training. \nAttention: for this training session\, a reservation is required. Everyone can join 1 training session a week.
URL:https://dvs-kotomisi.nl/activiteit/training-volwassenen-recreatief-20260220-19/
LOCATION:Sporthal Bontekoelaan\, Bontekoelaan 1\, Utrecht\, 3526 RA\, Nederland
CATEGORIES:Recreatieve training
END:VEVENT
END:VCALENDAR