BEGIN:VCALENDAR
VERSION:2.0
PRODID:-//DVS-Koto Misi - ECPv6.15.20//NONSGML v1.0//EN
CALSCALE:GREGORIAN
METHOD:PUBLISH
X-WR-CALNAME:DVS-Koto Misi
X-ORIGINAL-URL:https://dvs-kotomisi.nl
X-WR-CALDESC:Evenementen voor DVS-Koto Misi
REFRESH-INTERVAL;VALUE=DURATION:PT1H
X-Robots-Tag:noindex
X-PUBLISHED-TTL:PT1H
BEGIN:VTIMEZONE
TZID:Europe/Amsterdam
BEGIN:DAYLIGHT
TZOFFSETFROM:+0100
TZOFFSETTO:+0200
TZNAME:CEST
DTSTART:20250330T010000
END:DAYLIGHT
BEGIN:STANDARD
TZOFFSETFROM:+0200
TZOFFSETTO:+0100
TZNAME:CET
DTSTART:20251026T010000
END:STANDARD
BEGIN:DAYLIGHT
TZOFFSETFROM:+0100
TZOFFSETTO:+0200
TZNAME:CEST
DTSTART:20260329T010000
END:DAYLIGHT
BEGIN:STANDARD
TZOFFSETFROM:+0200
TZOFFSETTO:+0100
TZNAME:CET
DTSTART:20261025T010000
END:STANDARD
BEGIN:DAYLIGHT
TZOFFSETFROM:+0100
TZOFFSETTO:+0200
TZNAME:CEST
DTSTART:20270328T010000
END:DAYLIGHT
BEGIN:STANDARD
TZOFFSETFROM:+0200
TZOFFSETTO:+0100
TZNAME:CET
DTSTART:20271031T010000
END:STANDARD
END:VTIMEZONE
BEGIN:VEVENT
DTSTART;TZID=Europe/Amsterdam:20260420T190000
DTEND;TZID=Europe/Amsterdam:20260420T200000
DTSTAMP:20260420T181517
CREATED:20250805T101911Z
LAST-MODIFIED:20250805T101911Z
UID:30102-1776711600-1776715200@dvs-kotomisi.nl
SUMMARY:Training volwassenen: recreatief beginners 20260420 19
DESCRIPTION:Let op: voor deze training is reserveren noodzakelijk. Je mag 1 x per week deelnemen aan een training. \nAttention: for this training session\, a reservation is required. Everyone can join 1 training session a week.
URL:https://dvs-kotomisi.nl/activiteit/training-volwassenen-recreatief-beginners-20260420-19/
LOCATION:Sporthal Hoograven\, Verlengde Hoogravenseweg 203\, Utrecht\, 3523 KJ\, Nederland
CATEGORIES:Recreatieve training
END:VEVENT
BEGIN:VEVENT
DTSTART;TZID=Europe/Amsterdam:20260420T200000
DTEND;TZID=Europe/Amsterdam:20260420T210000
DTSTAMP:20260420T181517
CREATED:20250805T102056Z
LAST-MODIFIED:20250805T102056Z
UID:30139-1776715200-1776718800@dvs-kotomisi.nl
SUMMARY:Training volwassenen: recreatief 20260420 20
DESCRIPTION:Let op: voor deze training is reserveren noodzakelijk. Je mag 1 x per week deelnemen aan een training. \nAttention: for this training session\, a reservation is required. Everyone can join 1 training session a week.
URL:https://dvs-kotomisi.nl/activiteit/training-volwassenen-recreatief-20260420-20/
LOCATION:Sporthal Hoograven\, Verlengde Hoogravenseweg 203\, Utrecht\, 3523 KJ\, Nederland
CATEGORIES:Recreatieve training
END:VEVENT
BEGIN:VEVENT
DTSTART;TZID=Europe/Amsterdam:20260422T190000
DTEND;TZID=Europe/Amsterdam:20260422T200000
DTSTAMP:20260420T181517
CREATED:20250805T103053Z
LAST-MODIFIED:20250805T103053Z
UID:30209-1776884400-1776888000@dvs-kotomisi.nl
SUMMARY:Training volwassenen: recreatief 20260422 19
DESCRIPTION:Let op: voor deze training is reserveren noodzakelijk. Je mag 1 x per week deelnemen aan een training. \nAttention: for this training session\, a reservation is required. Everyone can join 1 training session a week.
URL:https://dvs-kotomisi.nl/activiteit/training-volwassenen-recreatief-20260422-19/
LOCATION:Sporthal Hoograven\, Verlengde Hoogravenseweg 203\, Utrecht\, 3523 KJ\, Nederland
CATEGORIES:Recreatieve training
END:VEVENT
BEGIN:VEVENT
DTSTART;TZID=Europe/Amsterdam:20260422T200000
DTEND;TZID=Europe/Amsterdam:20260422T210000
DTSTAMP:20260420T181517
CREATED:20250805T104916Z
LAST-MODIFIED:20250805T104916Z
UID:30244-1776888000-1776891600@dvs-kotomisi.nl
SUMMARY:Training volwassenen: recreatief 20260422 20
DESCRIPTION:Let op: voor deze training is reserveren noodzakelijk. Je mag 1 x per week deelnemen aan een training. \nAttention: for this training session\, a reservation is required. Everyone can join 1 training session a week.
URL:https://dvs-kotomisi.nl/activiteit/training-volwassenen-recreatief-20260422-20/
LOCATION:Sporthal Hoograven\, Verlengde Hoogravenseweg 203\, Utrecht\, 3523 KJ\, Nederland
CATEGORIES:Recreatieve training
END:VEVENT
BEGIN:VEVENT
DTSTART;TZID=Europe/Amsterdam:20260424T190000
DTEND;TZID=Europe/Amsterdam:20260424T203000
DTSTAMP:20260420T181517
CREATED:20250805T105616Z
LAST-MODIFIED:20250805T105616Z
UID:30319-1777057200-1777062600@dvs-kotomisi.nl
SUMMARY:Training volwassenen: recreatief 20260424 19
DESCRIPTION:Let op: voor deze training is reserveren noodzakelijk. Je mag 1 x per week deelnemen aan een training. \nAttention: for this training session\, a reservation is required. Everyone can join 1 training session a week.
URL:https://dvs-kotomisi.nl/activiteit/training-volwassenen-recreatief-20260424-19/
LOCATION:Sporthal Bontekoelaan\, Bontekoelaan 1\, Utrecht\, 3526 RA\, Nederland
CATEGORIES:Recreatieve training
END:VEVENT
BEGIN:VEVENT
DTSTART;TZID=Europe/Amsterdam:20260429T190000
DTEND;TZID=Europe/Amsterdam:20260429T200000
DTSTAMP:20260420T181517
CREATED:20250805T103054Z
LAST-MODIFIED:20250805T103054Z
UID:30210-1777489200-1777492800@dvs-kotomisi.nl
SUMMARY:Training volwassenen: recreatief 20260429 19
DESCRIPTION:Let op: voor deze training is reserveren noodzakelijk. Je mag 1 x per week deelnemen aan een training. \nAttention: for this training session\, a reservation is required. Everyone can join 1 training session a week.
URL:https://dvs-kotomisi.nl/activiteit/training-volwassenen-recreatief-20260429-19/
LOCATION:Sporthal Hoograven\, Verlengde Hoogravenseweg 203\, Utrecht\, 3523 KJ\, Nederland
CATEGORIES:Recreatieve training
END:VEVENT
BEGIN:VEVENT
DTSTART;TZID=Europe/Amsterdam:20260429T200000
DTEND;TZID=Europe/Amsterdam:20260429T210000
DTSTAMP:20260420T181517
CREATED:20250805T104916Z
LAST-MODIFIED:20250805T104916Z
UID:30245-1777492800-1777496400@dvs-kotomisi.nl
SUMMARY:Training volwassenen: recreatief 20260429 20
DESCRIPTION:Let op: voor deze training is reserveren noodzakelijk. Je mag 1 x per week deelnemen aan een training. \nAttention: for this training session\, a reservation is required. Everyone can join 1 training session a week.
URL:https://dvs-kotomisi.nl/activiteit/training-volwassenen-recreatief-20260429-20/
LOCATION:Sporthal Hoograven\, Verlengde Hoogravenseweg 203\, Utrecht\, 3523 KJ\, Nederland
CATEGORIES:Recreatieve training
END:VEVENT
BEGIN:VEVENT
DTSTART;TZID=Europe/Amsterdam:20260501T190000
DTEND;TZID=Europe/Amsterdam:20260501T203000
DTSTAMP:20260420T181517
CREATED:20250805T105616Z
LAST-MODIFIED:20250805T105616Z
UID:30320-1777662000-1777667400@dvs-kotomisi.nl
SUMMARY:Training volwassenen: recreatief 20260501 19
DESCRIPTION:Let op: voor deze training is reserveren noodzakelijk. Je mag 1 x per week deelnemen aan een training. \nAttention: for this training session\, a reservation is required. Everyone can join 1 training session a week.
URL:https://dvs-kotomisi.nl/activiteit/training-volwassenen-recreatief-20260501-19/
LOCATION:Sporthal Bontekoelaan\, Bontekoelaan 1\, Utrecht\, 3526 RA\, Nederland
CATEGORIES:Recreatieve training
END:VEVENT
BEGIN:VEVENT
DTSTART;TZID=Europe/Amsterdam:20260504T190000
DTEND;TZID=Europe/Amsterdam:20260504T195900
DTSTAMP:20260420T181517
CREATED:20250805T101911Z
LAST-MODIFIED:20260329T150251Z
UID:30103-1777921200-1777924740@dvs-kotomisi.nl
SUMMARY:Training volwassenen: recreatief beginners 20260504 19
DESCRIPTION:Let op: voor deze training is reserveren noodzakelijk. Je mag 1 x per week deelnemen aan een training. \nAttention: for this training session\, a reservation is required. Everyone can join 1 training session a week.
URL:https://dvs-kotomisi.nl/activiteit/training-volwassenen-recreatief-beginners-20260504-19/
LOCATION:Sporthal Hoograven\, Verlengde Hoogravenseweg 203\, Utrecht\, 3523 KJ\, Nederland
CATEGORIES:Recreatieve training
END:VEVENT
BEGIN:VEVENT
DTSTART;TZID=Europe/Amsterdam:20260504T200200
DTEND;TZID=Europe/Amsterdam:20260504T210000
DTSTAMP:20260420T181517
CREATED:20250805T102110Z
LAST-MODIFIED:20260329T150237Z
UID:30140-1777924920-1777928400@dvs-kotomisi.nl
SUMMARY:Training volwassenen: recreatief 20260504 20
DESCRIPTION:Let op: voor deze training is reserveren noodzakelijk. Je mag 1 x per week deelnemen aan een training. \nAttention: for this training session\, a reservation is required. Everyone can join 1 training session a week.
URL:https://dvs-kotomisi.nl/activiteit/training-volwassenen-recreatief-20260504-20/
LOCATION:Sporthal Hoograven\, Verlengde Hoogravenseweg 203\, Utrecht\, 3523 KJ\, Nederland
CATEGORIES:Recreatieve training
END:VEVENT
BEGIN:VEVENT
DTSTART;TZID=Europe/Amsterdam:20260506T190000
DTEND;TZID=Europe/Amsterdam:20260506T200000
DTSTAMP:20260420T181517
CREATED:20250805T103054Z
LAST-MODIFIED:20250805T103054Z
UID:30211-1778094000-1778097600@dvs-kotomisi.nl
SUMMARY:Training volwassenen: recreatief 20260506 19
DESCRIPTION:Let op: voor deze training is reserveren noodzakelijk. Je mag 1 x per week deelnemen aan een training. \nAttention: for this training session\, a reservation is required. Everyone can join 1 training session a week.
URL:https://dvs-kotomisi.nl/activiteit/training-volwassenen-recreatief-20260506-19/
LOCATION:Sporthal Hoograven\, Verlengde Hoogravenseweg 203\, Utrecht\, 3523 KJ\, Nederland
CATEGORIES:Recreatieve training
END:VEVENT
BEGIN:VEVENT
DTSTART;TZID=Europe/Amsterdam:20260506T200000
DTEND;TZID=Europe/Amsterdam:20260506T210000
DTSTAMP:20260420T181517
CREATED:20250805T104916Z
LAST-MODIFIED:20250805T104916Z
UID:30246-1778097600-1778101200@dvs-kotomisi.nl
SUMMARY:Training volwassenen: recreatief 20260506 20
DESCRIPTION:Let op: voor deze training is reserveren noodzakelijk. Je mag 1 x per week deelnemen aan een training. \nAttention: for this training session\, a reservation is required. Everyone can join 1 training session a week.
URL:https://dvs-kotomisi.nl/activiteit/training-volwassenen-recreatief-20260506-20/
LOCATION:Sporthal Hoograven\, Verlengde Hoogravenseweg 203\, Utrecht\, 3523 KJ\, Nederland
CATEGORIES:Recreatieve training
END:VEVENT
BEGIN:VEVENT
DTSTART;TZID=Europe/Amsterdam:20260508T190000
DTEND;TZID=Europe/Amsterdam:20260508T203000
DTSTAMP:20260420T181517
CREATED:20250805T105631Z
LAST-MODIFIED:20250805T105631Z
UID:30321-1778266800-1778272200@dvs-kotomisi.nl
SUMMARY:Training volwassenen: recreatief 20260508 19
DESCRIPTION:Let op: voor deze training is reserveren noodzakelijk. Je mag 1 x per week deelnemen aan een training. \nAttention: for this training session\, a reservation is required. Everyone can join 1 training session a week.
URL:https://dvs-kotomisi.nl/activiteit/training-volwassenen-recreatief-20260508-19/
LOCATION:Sporthal Galgenwaard\, Herculesplein 341\, Utrecht\, Nederland
CATEGORIES:Recreatieve training
END:VEVENT
BEGIN:VEVENT
DTSTART;TZID=Europe/Amsterdam:20260511T190000
DTEND;TZID=Europe/Amsterdam:20260511T200000
DTSTAMP:20260420T181517
CREATED:20250805T101911Z
LAST-MODIFIED:20250805T101911Z
UID:30104-1778526000-1778529600@dvs-kotomisi.nl
SUMMARY:Training volwassenen: recreatief beginners 20260511 19
DESCRIPTION:Let op: voor deze training is reserveren noodzakelijk. Je mag 1 x per week deelnemen aan een training. \nAttention: for this training session\, a reservation is required. Everyone can join 1 training session a week.
URL:https://dvs-kotomisi.nl/activiteit/training-volwassenen-recreatief-beginners-20260511-19/
LOCATION:Sporthal Hoograven\, Verlengde Hoogravenseweg 203\, Utrecht\, 3523 KJ\, Nederland
CATEGORIES:Recreatieve training
END:VEVENT
BEGIN:VEVENT
DTSTART;TZID=Europe/Amsterdam:20260511T200000
DTEND;TZID=Europe/Amsterdam:20260511T210000
DTSTAMP:20260420T181517
CREATED:20250805T102111Z
LAST-MODIFIED:20250805T102111Z
UID:30141-1778529600-1778533200@dvs-kotomisi.nl
SUMMARY:Training volwassenen: recreatief 20260511 20
DESCRIPTION:Let op: voor deze training is reserveren noodzakelijk. Je mag 1 x per week deelnemen aan een training. \nAttention: for this training session\, a reservation is required. Everyone can join 1 training session a week.
URL:https://dvs-kotomisi.nl/activiteit/training-volwassenen-recreatief-20260511-20/
LOCATION:Sporthal Hoograven\, Verlengde Hoogravenseweg 203\, Utrecht\, 3523 KJ\, Nederland
CATEGORIES:Recreatieve training
END:VEVENT
BEGIN:VEVENT
DTSTART;TZID=Europe/Amsterdam:20260513T190000
DTEND;TZID=Europe/Amsterdam:20260513T200000
DTSTAMP:20260420T181517
CREATED:20250805T103054Z
LAST-MODIFIED:20250805T103054Z
UID:30212-1778698800-1778702400@dvs-kotomisi.nl
SUMMARY:Training volwassenen: recreatief 20260513 19
DESCRIPTION:Let op: voor deze training is reserveren noodzakelijk. Je mag 1 x per week deelnemen aan een training. \nAttention: for this training session\, a reservation is required. Everyone can join 1 training session a week.
URL:https://dvs-kotomisi.nl/activiteit/training-volwassenen-recreatief-20260513-19/
LOCATION:Sporthal Hoograven\, Verlengde Hoogravenseweg 203\, Utrecht\, 3523 KJ\, Nederland
CATEGORIES:Recreatieve training
END:VEVENT
BEGIN:VEVENT
DTSTART;TZID=Europe/Amsterdam:20260513T200000
DTEND;TZID=Europe/Amsterdam:20260513T210000
DTSTAMP:20260420T181517
CREATED:20250805T104916Z
LAST-MODIFIED:20250805T104916Z
UID:30247-1778702400-1778706000@dvs-kotomisi.nl
SUMMARY:Training volwassenen: recreatief 20260513 20
DESCRIPTION:Let op: voor deze training is reserveren noodzakelijk. Je mag 1 x per week deelnemen aan een training. \nAttention: for this training session\, a reservation is required. Everyone can join 1 training session a week.
URL:https://dvs-kotomisi.nl/activiteit/training-volwassenen-recreatief-20260513-20/
LOCATION:Sporthal Hoograven\, Verlengde Hoogravenseweg 203\, Utrecht\, 3523 KJ\, Nederland
CATEGORIES:Recreatieve training
END:VEVENT
BEGIN:VEVENT
DTSTART;TZID=Europe/Amsterdam:20260515T190000
DTEND;TZID=Europe/Amsterdam:20260515T203000
DTSTAMP:20260420T181517
CREATED:20250805T105631Z
LAST-MODIFIED:20250805T105631Z
UID:30322-1778871600-1778877000@dvs-kotomisi.nl
SUMMARY:Training volwassenen: recreatief 20260515 19
DESCRIPTION:Let op: voor deze training is reserveren noodzakelijk. Je mag 1 x per week deelnemen aan een training. \nAttention: for this training session\, a reservation is required. Everyone can join 1 training session a week.
URL:https://dvs-kotomisi.nl/activiteit/training-volwassenen-recreatief-20260515-19/
LOCATION:Sporthal Hoograven\, Verlengde Hoogravenseweg 203\, Utrecht\, 3523 KJ\, Nederland
CATEGORIES:Recreatieve training
END:VEVENT
BEGIN:VEVENT
DTSTART;TZID=Europe/Amsterdam:20260520T190000
DTEND;TZID=Europe/Amsterdam:20260520T200000
DTSTAMP:20260420T181517
CREATED:20250805T103054Z
LAST-MODIFIED:20250805T103054Z
UID:30213-1779303600-1779307200@dvs-kotomisi.nl
SUMMARY:Training volwassenen: recreatief 20260520 19
DESCRIPTION:Let op: voor deze training is reserveren noodzakelijk. Je mag 1 x per week deelnemen aan een training. \nAttention: for this training session\, a reservation is required. Everyone can join 1 training session a week.
URL:https://dvs-kotomisi.nl/activiteit/training-volwassenen-recreatief-20260520-19/
LOCATION:Sporthal Hoograven\, Verlengde Hoogravenseweg 203\, Utrecht\, 3523 KJ\, Nederland
CATEGORIES:Recreatieve training
END:VEVENT
BEGIN:VEVENT
DTSTART;TZID=Europe/Amsterdam:20260520T200000
DTEND;TZID=Europe/Amsterdam:20260520T210000
DTSTAMP:20260420T181517
CREATED:20250805T104916Z
LAST-MODIFIED:20250805T104916Z
UID:30248-1779307200-1779310800@dvs-kotomisi.nl
SUMMARY:Training volwassenen: recreatief 20260520 20
DESCRIPTION:Let op: voor deze training is reserveren noodzakelijk. Je mag 1 x per week deelnemen aan een training. \nAttention: for this training session\, a reservation is required. Everyone can join 1 training session a week.
URL:https://dvs-kotomisi.nl/activiteit/training-volwassenen-recreatief-20260520-20/
LOCATION:Sporthal Hoograven\, Verlengde Hoogravenseweg 203\, Utrecht\, 3523 KJ\, Nederland
CATEGORIES:Recreatieve training
END:VEVENT
BEGIN:VEVENT
DTSTART;TZID=Europe/Amsterdam:20260522T190000
DTEND;TZID=Europe/Amsterdam:20260522T203000
DTSTAMP:20260420T181517
CREATED:20250805T105631Z
LAST-MODIFIED:20250805T105631Z
UID:30323-1779476400-1779481800@dvs-kotomisi.nl
SUMMARY:Training volwassenen: recreatief 20260522 19
DESCRIPTION:Let op: voor deze training is reserveren noodzakelijk. Je mag 1 x per week deelnemen aan een training. \nAttention: for this training session\, a reservation is required. Everyone can join 1 training session a week.
URL:https://dvs-kotomisi.nl/activiteit/training-volwassenen-recreatief-20260522-19/
LOCATION:Sporthal Hoograven\, Verlengde Hoogravenseweg 203\, Utrecht\, 3523 KJ\, Nederland
CATEGORIES:Recreatieve training
END:VEVENT
END:VCALENDAR