BEGIN:VCALENDAR
VERSION:2.0
PRODID:-//DVS-Koto Misi - ECPv6.15.20//NONSGML v1.0//EN
CALSCALE:GREGORIAN
METHOD:PUBLISH
X-WR-CALNAME:DVS-Koto Misi
X-ORIGINAL-URL:https://dvs-kotomisi.nl
X-WR-CALDESC:Evenementen voor DVS-Koto Misi
REFRESH-INTERVAL;VALUE=DURATION:PT1H
X-Robots-Tag:noindex
X-PUBLISHED-TTL:PT1H
BEGIN:VTIMEZONE
TZID:Europe/Amsterdam
BEGIN:DAYLIGHT
TZOFFSETFROM:+0100
TZOFFSETTO:+0200
TZNAME:CEST
DTSTART:20240331T010000
END:DAYLIGHT
BEGIN:STANDARD
TZOFFSETFROM:+0200
TZOFFSETTO:+0100
TZNAME:CET
DTSTART:20241027T010000
END:STANDARD
BEGIN:DAYLIGHT
TZOFFSETFROM:+0100
TZOFFSETTO:+0200
TZNAME:CEST
DTSTART:20250330T010000
END:DAYLIGHT
BEGIN:STANDARD
TZOFFSETFROM:+0200
TZOFFSETTO:+0100
TZNAME:CET
DTSTART:20251026T010000
END:STANDARD
BEGIN:DAYLIGHT
TZOFFSETFROM:+0100
TZOFFSETTO:+0200
TZNAME:CEST
DTSTART:20260329T010000
END:DAYLIGHT
BEGIN:STANDARD
TZOFFSETFROM:+0200
TZOFFSETTO:+0100
TZNAME:CET
DTSTART:20261025T010000
END:STANDARD
END:VTIMEZONE
BEGIN:VEVENT
DTSTART;TZID=Europe/Amsterdam:20251020T190000
DTEND;TZID=Europe/Amsterdam:20251020T200000
DTSTAMP:20260421T043826
CREATED:20250805T101755Z
LAST-MODIFIED:20251012T112046Z
UID:30078-1760986800-1760990400@dvs-kotomisi.nl
SUMMARY:Training volwassenen: recreatief beginners 20251020 19
DESCRIPTION:Let op: voor deze training is reserveren noodzakelijk. Je mag 1 x per week deelnemen aan een training. \nAttention: for this training session\, a reservation is required. Everyone can join 1 training session a week.
URL:https://dvs-kotomisi.nl/activiteit/training-volwassenen-recreatief-beginners-20251020-19/
LOCATION:Sporthal Hoograven\, Verlengde Hoogravenseweg 203\, Utrecht\, 3523 KJ\, Nederland
CATEGORIES:Recreatieve training
END:VEVENT
BEGIN:VEVENT
DTSTART;TZID=Europe/Amsterdam:20251020T200000
DTEND;TZID=Europe/Amsterdam:20251020T210000
DTSTAMP:20260421T043826
CREATED:20250805T101955Z
LAST-MODIFIED:20251012T112201Z
UID:30115-1760990400-1760994000@dvs-kotomisi.nl
SUMMARY:Training volwassenen: recreatief 20251020 20
DESCRIPTION:Let op: voor deze training is reserveren noodzakelijk. Je mag 1 x per week deelnemen aan een training. \nAttention: for this training session\, a reservation is required. Everyone can join 1 training session a week.
URL:https://dvs-kotomisi.nl/activiteit/training-volwassenen-recreatief-20251020-20/
LOCATION:Sporthal Hoograven\, Verlengde Hoogravenseweg 203\, Utrecht\, 3523 KJ\, Nederland
CATEGORIES:Recreatieve training
END:VEVENT
BEGIN:VEVENT
DTSTART;TZID=Europe/Amsterdam:20251022T190000
DTEND;TZID=Europe/Amsterdam:20251022T200000
DTSTAMP:20260421T043826
CREATED:20250805T102554Z
LAST-MODIFIED:20251012T112223Z
UID:30186-1761159600-1761163200@dvs-kotomisi.nl
SUMMARY:Training volwassenen: recreatief 20251022 19
DESCRIPTION:Let op: voor deze training is reserveren noodzakelijk. Je mag 1 x per week deelnemen aan een training. \nAttention: for this training session\, a reservation is required. Everyone can join 1 training session a week.
URL:https://dvs-kotomisi.nl/activiteit/training-volwassenen-recreatief-20251022-19/
LOCATION:Sporthal Hoograven\, Verlengde Hoogravenseweg 203\, Utrecht\, 3523 KJ\, Nederland
CATEGORIES:Recreatieve training
END:VEVENT
BEGIN:VEVENT
DTSTART;TZID=Europe/Amsterdam:20251022T200000
DTEND;TZID=Europe/Amsterdam:20251022T210000
DTSTAMP:20260421T043826
CREATED:20250805T103309Z
LAST-MODIFIED:20251012T112247Z
UID:30221-1761163200-1761166800@dvs-kotomisi.nl
SUMMARY:Training volwassenen: recreatief 20251022 20
DESCRIPTION:Let op: voor deze training is reserveren noodzakelijk. Je mag 1 x per week deelnemen aan een training. \nAttention: for this training session\, a reservation is required. Everyone can join 1 training session a week.
URL:https://dvs-kotomisi.nl/activiteit/training-volwassenen-recreatief-20251022-20/
LOCATION:Sporthal Hoograven\, Verlengde Hoogravenseweg 203\, Utrecht\, 3523 KJ\, Nederland
CATEGORIES:Recreatieve training
END:VEVENT
BEGIN:VEVENT
DTSTART;TZID=Europe/Amsterdam:20251024T190000
DTEND;TZID=Europe/Amsterdam:20251024T203000
DTSTAMP:20260421T043826
CREATED:20250805T105516Z
LAST-MODIFIED:20251012T112321Z
UID:30294-1761332400-1761337800@dvs-kotomisi.nl
SUMMARY:Training volwassenen: recreatief 20251024 19
DESCRIPTION:Let op: voor deze training is reserveren noodzakelijk. Je mag 1 x per week deelnemen aan een training. \nAttention: for this training session\, a reservation is required. Everyone can join 1 training session a week.
URL:https://dvs-kotomisi.nl/activiteit/training-volwassenen-recreatief-20251024-19/
LOCATION:Sporthal Bontekoelaan\, Bontekoelaan 1\, Utrecht\, 3526 RA\, Nederland
CATEGORIES:Recreatieve training
END:VEVENT
BEGIN:VEVENT
DTSTART;TZID=Europe/Amsterdam:20251027T190000
DTEND;TZID=Europe/Amsterdam:20251027T200000
DTSTAMP:20260421T043826
CREATED:20250805T101755Z
LAST-MODIFIED:20251012T112416Z
UID:30079-1761591600-1761595200@dvs-kotomisi.nl
SUMMARY:Training volwassenen: recreatief beginners 20251027 19
DESCRIPTION:Let op: voor deze training is reserveren noodzakelijk. Je mag 1 x per week deelnemen aan een training. \nAttention: for this training session\, a reservation is required. Everyone can join 1 training session a week.
URL:https://dvs-kotomisi.nl/activiteit/training-volwassenen-recreatief-beginners-20251027-19/
LOCATION:Sporthal Hoograven\, Verlengde Hoogravenseweg 203\, Utrecht\, 3523 KJ\, Nederland
CATEGORIES:Recreatieve training
END:VEVENT
BEGIN:VEVENT
DTSTART;TZID=Europe/Amsterdam:20251027T200000
DTEND;TZID=Europe/Amsterdam:20251027T210000
DTSTAMP:20260421T043826
CREATED:20250805T101955Z
LAST-MODIFIED:20251012T112440Z
UID:30116-1761595200-1761598800@dvs-kotomisi.nl
SUMMARY:Training volwassenen: recreatief 20251027 20
DESCRIPTION:Let op: voor deze training is reserveren noodzakelijk. Je mag 1 x per week deelnemen aan een training. \nAttention: for this training session\, a reservation is required. Everyone can join 1 training session a week.
URL:https://dvs-kotomisi.nl/activiteit/training-volwassenen-recreatief-20251027-20/
LOCATION:Sporthal Hoograven\, Verlengde Hoogravenseweg 203\, Utrecht\, 3523 KJ\, Nederland
CATEGORIES:Recreatieve training
END:VEVENT
BEGIN:VEVENT
DTSTART;TZID=Europe/Amsterdam:20251029T190000
DTEND;TZID=Europe/Amsterdam:20251029T200000
DTSTAMP:20260421T043826
CREATED:20250805T102555Z
LAST-MODIFIED:20251012T112504Z
UID:30187-1761764400-1761768000@dvs-kotomisi.nl
SUMMARY:Training volwassenen: recreatief 20251029 19
DESCRIPTION:Let op: voor deze training is reserveren noodzakelijk. Je mag 1 x per week deelnemen aan een training. \nAttention: for this training session\, a reservation is required. Everyone can join 1 training session a week.
URL:https://dvs-kotomisi.nl/activiteit/training-volwassenen-recreatief-20251029-19/
LOCATION:Sporthal Hoograven\, Verlengde Hoogravenseweg 203\, Utrecht\, 3523 KJ\, Nederland
CATEGORIES:Recreatieve training
END:VEVENT
BEGIN:VEVENT
DTSTART;TZID=Europe/Amsterdam:20251029T200000
DTEND;TZID=Europe/Amsterdam:20251029T210000
DTSTAMP:20260421T043826
CREATED:20250805T103309Z
LAST-MODIFIED:20251012T112525Z
UID:30222-1761768000-1761771600@dvs-kotomisi.nl
SUMMARY:Training volwassenen: recreatief 20251029 20
DESCRIPTION:Let op: voor deze training is reserveren noodzakelijk. Je mag 1 x per week deelnemen aan een training. \nAttention: for this training session\, a reservation is required. Everyone can join 1 training session a week.
URL:https://dvs-kotomisi.nl/activiteit/training-volwassenen-recreatief-20251029-20/
LOCATION:Sporthal Hoograven\, Verlengde Hoogravenseweg 203\, Utrecht\, 3523 KJ\, Nederland
CATEGORIES:Recreatieve training
END:VEVENT
BEGIN:VEVENT
DTSTART;TZID=Europe/Amsterdam:20251031T190000
DTEND;TZID=Europe/Amsterdam:20251031T203000
DTSTAMP:20260421T043826
CREATED:20250805T105516Z
LAST-MODIFIED:20251012T112630Z
UID:30295-1761937200-1761942600@dvs-kotomisi.nl
SUMMARY:Training volwassenen: recreatief 20251031 19
DESCRIPTION:Let op: voor deze training is reserveren noodzakelijk. Je mag 1 x per week deelnemen aan een training. \nAttention: for this training session\, a reservation is required. Everyone can join 1 training session a week.
URL:https://dvs-kotomisi.nl/activiteit/training-volwassenen-recreatief-20251031-19/
LOCATION:Sporthal Bontekoelaan\, Bontekoelaan 1\, Utrecht\, 3526 RA\, Nederland
CATEGORIES:Recreatieve training
END:VEVENT
BEGIN:VEVENT
DTSTART;TZID=Europe/Amsterdam:20251103T190000
DTEND;TZID=Europe/Amsterdam:20251103T200000
DTSTAMP:20260421T043826
CREATED:20250805T101810Z
LAST-MODIFIED:20251026T140513Z
UID:30080-1762196400-1762200000@dvs-kotomisi.nl
SUMMARY:Training volwassenen: recreatief beginners 20251103 19
DESCRIPTION:Let op: voor deze training is reserveren noodzakelijk. Je mag 1 x per week deelnemen aan een training. \nAttention: for this training session\, a reservation is required. Everyone can join 1 training session a week.
URL:https://dvs-kotomisi.nl/activiteit/training-volwassenen-recreatief-beginners-20251103-19/
LOCATION:Sporthal Hoograven\, Verlengde Hoogravenseweg 203\, Utrecht\, 3523 KJ\, Nederland
CATEGORIES:Recreatieve training
END:VEVENT
BEGIN:VEVENT
DTSTART;TZID=Europe/Amsterdam:20251103T200000
DTEND;TZID=Europe/Amsterdam:20251103T210000
DTSTAMP:20260421T043826
CREATED:20250805T101956Z
LAST-MODIFIED:20251026T140452Z
UID:30117-1762200000-1762203600@dvs-kotomisi.nl
SUMMARY:Training volwassenen: recreatief 20251103 20
DESCRIPTION:Let op: voor deze training is reserveren noodzakelijk. Je mag 1 x per week deelnemen aan een training. \nAttention: for this training session\, a reservation is required. Everyone can join 1 training session a week.
URL:https://dvs-kotomisi.nl/activiteit/training-volwassenen-recreatief-20251103-20/
LOCATION:Sporthal Hoograven\, Verlengde Hoogravenseweg 203\, Utrecht\, 3523 KJ\, Nederland
CATEGORIES:Recreatieve training
END:VEVENT
BEGIN:VEVENT
DTSTART;TZID=Europe/Amsterdam:20251105T190000
DTEND;TZID=Europe/Amsterdam:20251105T200000
DTSTAMP:20260421T043826
CREATED:20250805T102555Z
LAST-MODIFIED:20251026T140432Z
UID:30188-1762369200-1762372800@dvs-kotomisi.nl
SUMMARY:Training volwassenen: recreatief 20251105 19
DESCRIPTION:Let op: voor deze training is reserveren noodzakelijk. Je mag 1 x per week deelnemen aan een training. \nAttention: for this training session\, a reservation is required. Everyone can join 1 training session a week.
URL:https://dvs-kotomisi.nl/activiteit/training-volwassenen-recreatief-20251105-19/
LOCATION:Sporthal Hoograven\, Verlengde Hoogravenseweg 203\, Utrecht\, 3523 KJ\, Nederland
CATEGORIES:Recreatieve training
END:VEVENT
BEGIN:VEVENT
DTSTART;TZID=Europe/Amsterdam:20251105T200000
DTEND;TZID=Europe/Amsterdam:20251105T210000
DTSTAMP:20260421T043826
CREATED:20250805T103309Z
LAST-MODIFIED:20251026T140411Z
UID:30223-1762372800-1762376400@dvs-kotomisi.nl
SUMMARY:Training volwassenen: recreatief 20251105 20
DESCRIPTION:Let op: voor deze training is reserveren noodzakelijk. Je mag 1 x per week deelnemen aan een training. \nAttention: for this training session\, a reservation is required. Everyone can join 1 training session a week.
URL:https://dvs-kotomisi.nl/activiteit/training-volwassenen-recreatief-20251105-20/
LOCATION:Sporthal Hoograven\, Verlengde Hoogravenseweg 203\, Utrecht\, 3523 KJ\, Nederland
CATEGORIES:Recreatieve training
END:VEVENT
BEGIN:VEVENT
DTSTART;TZID=Europe/Amsterdam:20251107T190000
DTEND;TZID=Europe/Amsterdam:20251107T203000
DTSTAMP:20260421T043826
CREATED:20250805T105517Z
LAST-MODIFIED:20251026T140351Z
UID:30296-1762542000-1762547400@dvs-kotomisi.nl
SUMMARY:Training volwassenen: recreatief 20251107 19
DESCRIPTION:Let op: voor deze training is reserveren noodzakelijk. Je mag 1 x per week deelnemen aan een training. \nAttention: for this training session\, a reservation is required. Everyone can join 1 training session a week.
URL:https://dvs-kotomisi.nl/activiteit/training-volwassenen-recreatief-20251107-19/
LOCATION:Sporthal Bontekoelaan\, Bontekoelaan 1\, Utrecht\, 3526 RA\, Nederland
CATEGORIES:Recreatieve training
END:VEVENT
BEGIN:VEVENT
DTSTART;TZID=Europe/Amsterdam:20251110T190000
DTEND;TZID=Europe/Amsterdam:20251110T200000
DTSTAMP:20260421T043826
CREATED:20250805T101811Z
LAST-MODIFIED:20251102T125039Z
UID:30081-1762801200-1762804800@dvs-kotomisi.nl
SUMMARY:Training volwassenen: recreatief beginners 20251110 19
DESCRIPTION:Let op: voor deze training is reserveren noodzakelijk. Je mag 1 x per week deelnemen aan een training. \nAttention: for this training session\, a reservation is required. Everyone can join 1 training session a week.
URL:https://dvs-kotomisi.nl/activiteit/training-volwassenen-recreatief-beginners-20251110-19/
LOCATION:Sporthal Hoograven\, Verlengde Hoogravenseweg 203\, Utrecht\, 3523 KJ\, Nederland
CATEGORIES:Recreatieve training
END:VEVENT
BEGIN:VEVENT
DTSTART;TZID=Europe/Amsterdam:20251110T200000
DTEND;TZID=Europe/Amsterdam:20251110T210000
DTSTAMP:20260421T043826
CREATED:20250805T101956Z
LAST-MODIFIED:20251102T125016Z
UID:30118-1762804800-1762808400@dvs-kotomisi.nl
SUMMARY:Training volwassenen: recreatief 20251110 20
DESCRIPTION:Let op: voor deze training is reserveren noodzakelijk. Je mag 1 x per week deelnemen aan een training. \nAttention: for this training session\, a reservation is required. Everyone can join 1 training session a week.
URL:https://dvs-kotomisi.nl/activiteit/training-volwassenen-recreatief-20251110-20/
LOCATION:Sporthal Hoograven\, Verlengde Hoogravenseweg 203\, Utrecht\, 3523 KJ\, Nederland
CATEGORIES:Recreatieve training
END:VEVENT
BEGIN:VEVENT
DTSTART;TZID=Europe/Amsterdam:20251112T190000
DTEND;TZID=Europe/Amsterdam:20251112T200000
DTSTAMP:20260421T043826
CREATED:20250805T102610Z
LAST-MODIFIED:20251102T124954Z
UID:30189-1762974000-1762977600@dvs-kotomisi.nl
SUMMARY:Training volwassenen: recreatief 20251112 19
DESCRIPTION:Let op: voor deze training is reserveren noodzakelijk. Je mag 1 x per week deelnemen aan een training. \nAttention: for this training session\, a reservation is required. Everyone can join 1 training session a week.
URL:https://dvs-kotomisi.nl/activiteit/training-volwassenen-recreatief-20251112-19/
LOCATION:Sporthal Hoograven\, Verlengde Hoogravenseweg 203\, Utrecht\, 3523 KJ\, Nederland
CATEGORIES:Recreatieve training
END:VEVENT
BEGIN:VEVENT
DTSTART;TZID=Europe/Amsterdam:20251112T200000
DTEND;TZID=Europe/Amsterdam:20251112T210000
DTSTAMP:20260421T043826
CREATED:20250805T103508Z
LAST-MODIFIED:20251102T124933Z
UID:30224-1762977600-1762981200@dvs-kotomisi.nl
SUMMARY:Training volwassenen: recreatief 20251112 20
DESCRIPTION:Let op: voor deze training is reserveren noodzakelijk. Je mag 1 x per week deelnemen aan een training. \nAttention: for this training session\, a reservation is required. Everyone can join 1 training session a week.
URL:https://dvs-kotomisi.nl/activiteit/training-volwassenen-recreatief-20251112-20/
LOCATION:Sporthal Hoograven\, Verlengde Hoogravenseweg 203\, Utrecht\, 3523 KJ\, Nederland
CATEGORIES:Recreatieve training
END:VEVENT
BEGIN:VEVENT
DTSTART;TZID=Europe/Amsterdam:20251114T190000
DTEND;TZID=Europe/Amsterdam:20251114T203000
DTSTAMP:20260421T043826
CREATED:20250805T105517Z
LAST-MODIFIED:20251102T124904Z
UID:30297-1763146800-1763152200@dvs-kotomisi.nl
SUMMARY:Training volwassenen: recreatief 20251114 19
DESCRIPTION:Let op: voor deze training is reserveren noodzakelijk. Je mag 1 x per week deelnemen aan een training. \nAttention: for this training session\, a reservation is required. Everyone can join 1 training session a week.
URL:https://dvs-kotomisi.nl/activiteit/training-volwassenen-recreatief-20251114-19/
LOCATION:Sporthal Bontekoelaan\, Bontekoelaan 1\, Utrecht\, 3526 RA\, Nederland
CATEGORIES:Recreatieve training
END:VEVENT
BEGIN:VEVENT
DTSTART;TZID=Europe/Amsterdam:20251117T190000
DTEND;TZID=Europe/Amsterdam:20251117T200000
DTSTAMP:20260421T043826
CREATED:20250805T101811Z
LAST-MODIFIED:20251110T141043Z
UID:30082-1763406000-1763409600@dvs-kotomisi.nl
SUMMARY:Training volwassenen: recreatief beginners 20251117 19
DESCRIPTION:Let op: voor deze training is reserveren noodzakelijk. Je mag 1 x per week deelnemen aan een training. \nAttention: for this training session\, a reservation is required. Everyone can join 1 training session a week.
URL:https://dvs-kotomisi.nl/activiteit/training-volwassenen-recreatief-beginners-20251117-19/
LOCATION:Sporthal Hoograven\, Verlengde Hoogravenseweg 203\, Utrecht\, 3523 KJ\, Nederland
CATEGORIES:Recreatieve training
END:VEVENT
BEGIN:VEVENT
DTSTART;TZID=Europe/Amsterdam:20251117T200000
DTEND;TZID=Europe/Amsterdam:20251117T210000
DTSTAMP:20260421T043826
CREATED:20250805T101956Z
LAST-MODIFIED:20251110T141126Z
UID:30119-1763409600-1763413200@dvs-kotomisi.nl
SUMMARY:Training volwassenen: recreatief 20251117 20
DESCRIPTION:Let op: voor deze training is reserveren noodzakelijk. Je mag 1 x per week deelnemen aan een training. \nAttention: for this training session\, a reservation is required. Everyone can join 1 training session a week.
URL:https://dvs-kotomisi.nl/activiteit/training-volwassenen-recreatief-20251117-20/
LOCATION:Sporthal Hoograven\, Verlengde Hoogravenseweg 203\, Utrecht\, 3523 KJ\, Nederland
CATEGORIES:Recreatieve training
END:VEVENT
BEGIN:VEVENT
DTSTART;TZID=Europe/Amsterdam:20251119T190000
DTEND;TZID=Europe/Amsterdam:20251119T200000
DTSTAMP:20260421T043826
CREATED:20250805T102610Z
LAST-MODIFIED:20251110T141211Z
UID:30190-1763578800-1763582400@dvs-kotomisi.nl
SUMMARY:Training volwassenen: recreatief 20251119 19
DESCRIPTION:Let op: voor deze training is reserveren noodzakelijk. Je mag 1 x per week deelnemen aan een training. \nAttention: for this training session\, a reservation is required. Everyone can join 1 training session a week.
URL:https://dvs-kotomisi.nl/activiteit/training-volwassenen-recreatief-20251119-19/
LOCATION:Sporthal Hoograven\, Verlengde Hoogravenseweg 203\, Utrecht\, 3523 KJ\, Nederland
CATEGORIES:Recreatieve training
END:VEVENT
BEGIN:VEVENT
DTSTART;TZID=Europe/Amsterdam:20251119T200000
DTEND;TZID=Europe/Amsterdam:20251119T210000
DTSTAMP:20260421T043826
CREATED:20250805T103509Z
LAST-MODIFIED:20251110T141235Z
UID:30225-1763582400-1763586000@dvs-kotomisi.nl
SUMMARY:Training volwassenen: recreatief 20251119 20
DESCRIPTION:Let op: voor deze training is reserveren noodzakelijk. Je mag 1 x per week deelnemen aan een training. \nAttention: for this training session\, a reservation is required. Everyone can join 1 training session a week.
URL:https://dvs-kotomisi.nl/activiteit/training-volwassenen-recreatief-20251119-20/
LOCATION:Sporthal Hoograven\, Verlengde Hoogravenseweg 203\, Utrecht\, 3523 KJ\, Nederland
CATEGORIES:Recreatieve training
END:VEVENT
BEGIN:VEVENT
DTSTART;TZID=Europe/Amsterdam:20251121T190000
DTEND;TZID=Europe/Amsterdam:20251121T203000
DTSTAMP:20260421T043826
CREATED:20250805T105517Z
LAST-MODIFIED:20251110T141320Z
UID:30298-1763751600-1763757000@dvs-kotomisi.nl
SUMMARY:Training volwassenen: recreatief 20251121 19
DESCRIPTION:Let op: voor deze training is reserveren noodzakelijk. Je mag 1 x per week deelnemen aan een training. \nAttention: for this training session\, a reservation is required. Everyone can join 1 training session a week.
URL:https://dvs-kotomisi.nl/activiteit/training-volwassenen-recreatief-20251121-19/
LOCATION:Sporthal Bontekoelaan\, Bontekoelaan 1\, Utrecht\, 3526 RA\, Nederland
CATEGORIES:Recreatieve training
END:VEVENT
BEGIN:VEVENT
DTSTART;TZID=Europe/Amsterdam:20251124T190000
DTEND;TZID=Europe/Amsterdam:20251124T200000
DTSTAMP:20260421T043826
CREATED:20250805T101811Z
LAST-MODIFIED:20251117T130621Z
UID:30083-1764010800-1764014400@dvs-kotomisi.nl
SUMMARY:Training volwassenen: recreatief beginners 20251124 19
DESCRIPTION:Let op: voor deze training is reserveren noodzakelijk. Je mag 1 x per week deelnemen aan een training. \nAttention: for this training session\, a reservation is required. Everyone can join 1 training session a week.
URL:https://dvs-kotomisi.nl/activiteit/training-volwassenen-recreatief-beginners-20251124-19/
LOCATION:Sporthal Hoograven\, Verlengde Hoogravenseweg 203\, Utrecht\, 3523 KJ\, Nederland
CATEGORIES:Recreatieve training
END:VEVENT
BEGIN:VEVENT
DTSTART;TZID=Europe/Amsterdam:20251124T200000
DTEND;TZID=Europe/Amsterdam:20251124T210000
DTSTAMP:20260421T043826
CREATED:20250805T102010Z
LAST-MODIFIED:20251117T130641Z
UID:30120-1764014400-1764018000@dvs-kotomisi.nl
SUMMARY:Training volwassenen: recreatief 20251124 20
DESCRIPTION:Let op: voor deze training is reserveren noodzakelijk. Je mag 1 x per week deelnemen aan een training. \nAttention: for this training session\, a reservation is required. Everyone can join 1 training session a week.
URL:https://dvs-kotomisi.nl/activiteit/training-volwassenen-recreatief-20251124-20/
LOCATION:Sporthal Hoograven\, Verlengde Hoogravenseweg 203\, Utrecht\, 3523 KJ\, Nederland
CATEGORIES:Recreatieve training
END:VEVENT
BEGIN:VEVENT
DTSTART;TZID=Europe/Amsterdam:20251126T190000
DTEND;TZID=Europe/Amsterdam:20251126T200000
DTSTAMP:20260421T043826
CREATED:20250805T102610Z
LAST-MODIFIED:20251117T131214Z
UID:30191-1764183600-1764187200@dvs-kotomisi.nl
SUMMARY:Training volwassenen: recreatief 20251126 19
DESCRIPTION:Let op: voor deze training is reserveren noodzakelijk. Je mag 1 x per week deelnemen aan een training. \nAttention: for this training session\, a reservation is required. Everyone can join 1 training session a week.
URL:https://dvs-kotomisi.nl/activiteit/training-volwassenen-recreatief-20251126-19/
LOCATION:Sporthal Hoograven\, Verlengde Hoogravenseweg 203\, Utrecht\, 3523 KJ\, Nederland
CATEGORIES:Recreatieve training
END:VEVENT
BEGIN:VEVENT
DTSTART;TZID=Europe/Amsterdam:20251126T200000
DTEND;TZID=Europe/Amsterdam:20251126T210000
DTSTAMP:20260421T043826
CREATED:20250805T103509Z
LAST-MODIFIED:20251117T131153Z
UID:30226-1764187200-1764190800@dvs-kotomisi.nl
SUMMARY:Training volwassenen: recreatief 20251126 20
DESCRIPTION:Let op: voor deze training is reserveren noodzakelijk. Je mag 1 x per week deelnemen aan een training. \nAttention: for this training session\, a reservation is required. Everyone can join 1 training session a week.
URL:https://dvs-kotomisi.nl/activiteit/training-volwassenen-recreatief-20251126-20/
LOCATION:Sporthal Hoograven\, Verlengde Hoogravenseweg 203\, Utrecht\, 3523 KJ\, Nederland
CATEGORIES:Recreatieve training
END:VEVENT
BEGIN:VEVENT
DTSTART;TZID=Europe/Amsterdam:20251128T190000
DTEND;TZID=Europe/Amsterdam:20251128T203000
DTSTAMP:20260421T043826
CREATED:20250805T105517Z
LAST-MODIFIED:20251117T131239Z
UID:30299-1764356400-1764361800@dvs-kotomisi.nl
SUMMARY:Training volwassenen: recreatief 20251128 19
DESCRIPTION:Let op: voor deze training is reserveren noodzakelijk. Je mag 1 x per week deelnemen aan een training. \nAttention: for this training session\, a reservation is required. Everyone can join 1 training session a week.
URL:https://dvs-kotomisi.nl/activiteit/training-volwassenen-recreatief-20251128-19/
LOCATION:Sporthal Bontekoelaan\, Bontekoelaan 1\, Utrecht\, 3526 RA\, Nederland
CATEGORIES:Recreatieve training
END:VEVENT
END:VCALENDAR