BEGIN:VCALENDAR
VERSION:2.0
PRODID:-//DVS-Koto Misi - ECPv6.15.20//NONSGML v1.0//EN
CALSCALE:GREGORIAN
METHOD:PUBLISH
X-ORIGINAL-URL:https://dvs-kotomisi.nl
X-WR-CALDESC:Evenementen voor DVS-Koto Misi
REFRESH-INTERVAL;VALUE=DURATION:PT1H
X-Robots-Tag:noindex
X-PUBLISHED-TTL:PT1H
BEGIN:VTIMEZONE
TZID:Europe/Amsterdam
BEGIN:DAYLIGHT
TZOFFSETFROM:+0100
TZOFFSETTO:+0200
TZNAME:CEST
DTSTART:20250330T010000
END:DAYLIGHT
BEGIN:STANDARD
TZOFFSETFROM:+0200
TZOFFSETTO:+0100
TZNAME:CET
DTSTART:20251026T010000
END:STANDARD
BEGIN:DAYLIGHT
TZOFFSETFROM:+0100
TZOFFSETTO:+0200
TZNAME:CEST
DTSTART:20260329T010000
END:DAYLIGHT
BEGIN:STANDARD
TZOFFSETFROM:+0200
TZOFFSETTO:+0100
TZNAME:CET
DTSTART:20261025T010000
END:STANDARD
BEGIN:DAYLIGHT
TZOFFSETFROM:+0100
TZOFFSETTO:+0200
TZNAME:CEST
DTSTART:20270328T010000
END:DAYLIGHT
BEGIN:STANDARD
TZOFFSETFROM:+0200
TZOFFSETTO:+0100
TZNAME:CET
DTSTART:20271031T010000
END:STANDARD
END:VTIMEZONE
BEGIN:VEVENT
DTSTART;TZID=Europe/Amsterdam:20260327T190000
DTEND;TZID=Europe/Amsterdam:20260327T203000
DTSTAMP:20260420T163214
CREATED:20250805T105601Z
LAST-MODIFIED:20260316T134502Z
UID:30315-1774638000-1774643400@dvs-kotomisi.nl
SUMMARY:Training volwassenen: recreatief 20260327 19
DESCRIPTION:Let op: voor deze training is reserveren noodzakelijk. Je mag 1 x per week deelnemen aan een training. \nAttention: for this training session\, a reservation is required. Everyone can join 1 training session a week.
URL:https://dvs-kotomisi.nl/activiteit/training-volwassenen-recreatief-20260327-19/
LOCATION:Sporthal Bontekoelaan\, Bontekoelaan 1\, Utrecht\, 3526 RA\, Nederland
CATEGORIES:Recreatieve training
END:VEVENT
END:VCALENDAR