BEGIN:VCALENDAR
VERSION:2.0
PRODID:-//DVS-Koto Misi - ECPv6.15.20//NONSGML v1.0//EN
CALSCALE:GREGORIAN
METHOD:PUBLISH
X-ORIGINAL-URL:https://dvs-kotomisi.nl
X-WR-CALDESC:Evenementen voor DVS-Koto Misi
REFRESH-INTERVAL;VALUE=DURATION:PT1H
X-Robots-Tag:noindex
X-PUBLISHED-TTL:PT1H
BEGIN:VTIMEZONE
TZID:Europe/Amsterdam
BEGIN:DAYLIGHT
TZOFFSETFROM:+0100
TZOFFSETTO:+0200
TZNAME:CEST
DTSTART:20240331T010000
END:DAYLIGHT
BEGIN:STANDARD
TZOFFSETFROM:+0200
TZOFFSETTO:+0100
TZNAME:CET
DTSTART:20241027T010000
END:STANDARD
BEGIN:DAYLIGHT
TZOFFSETFROM:+0100
TZOFFSETTO:+0200
TZNAME:CEST
DTSTART:20250330T010000
END:DAYLIGHT
BEGIN:STANDARD
TZOFFSETFROM:+0200
TZOFFSETTO:+0100
TZNAME:CET
DTSTART:20251026T010000
END:STANDARD
BEGIN:DAYLIGHT
TZOFFSETFROM:+0100
TZOFFSETTO:+0200
TZNAME:CEST
DTSTART:20260329T010000
END:DAYLIGHT
BEGIN:STANDARD
TZOFFSETFROM:+0200
TZOFFSETTO:+0100
TZNAME:CET
DTSTART:20261025T010000
END:STANDARD
END:VTIMEZONE
BEGIN:VEVENT
DTSTART;TZID=Europe/Amsterdam:20251229T190000
DTEND;TZID=Europe/Amsterdam:20251229T200000
DTSTAMP:20260420T194842
CREATED:20250805T101826Z
LAST-MODIFIED:20251123T152224Z
UID:30088-1767034800-1767038400@dvs-kotomisi.nl
SUMMARY:Training volwassenen: recreatief beginners 20251229 19
DESCRIPTION:Let op: voor deze training is reserveren noodzakelijk. Je mag 1 x per week deelnemen aan een training. \nAttention: for this training session\, a reservation is required. Everyone can join 1 training session a week.
URL:https://dvs-kotomisi.nl/activiteit/training-volwassenen-recreatief-beginners-20251229-19/
LOCATION:Sporthal Hoograven\, Verlengde Hoogravenseweg 203\, Utrecht\, 3523 KJ\, Nederland
CATEGORIES:Recreatieve training
END:VEVENT
BEGIN:VEVENT
DTSTART;TZID=Europe/Amsterdam:20251229T200000
DTEND;TZID=Europe/Amsterdam:20251229T210000
DTSTAMP:20260420T194842
CREATED:20250805T102026Z
LAST-MODIFIED:20251123T152246Z
UID:30125-1767038400-1767042000@dvs-kotomisi.nl
SUMMARY:Training volwassenen: recreatief 20251229 20
DESCRIPTION:Let op: voor deze training is reserveren noodzakelijk. Je mag 1 x per week deelnemen aan een training. \nAttention: for this training session\, a reservation is required. Everyone can join 1 training session a week.
URL:https://dvs-kotomisi.nl/activiteit/training-volwassenen-recreatief-20251229-20/
LOCATION:Sporthal Hoograven\, Verlengde Hoogravenseweg 203\, Utrecht\, 3523 KJ\, Nederland
CATEGORIES:Recreatieve training
END:VEVENT
END:VCALENDAR