BEGIN:VCALENDAR
VERSION:2.0
PRODID:-//DVS-Koto Misi - ECPv6.15.20//NONSGML v1.0//EN
CALSCALE:GREGORIAN
METHOD:PUBLISH
X-WR-CALNAME:DVS-Koto Misi
X-ORIGINAL-URL:https://dvs-kotomisi.nl
X-WR-CALDESC:Evenementen voor DVS-Koto Misi
REFRESH-INTERVAL;VALUE=DURATION:PT1H
X-Robots-Tag:noindex
X-PUBLISHED-TTL:PT1H
BEGIN:VTIMEZONE
TZID:Europe/Amsterdam
BEGIN:DAYLIGHT
TZOFFSETFROM:+0100
TZOFFSETTO:+0200
TZNAME:CEST
DTSTART:20240331T010000
END:DAYLIGHT
BEGIN:STANDARD
TZOFFSETFROM:+0200
TZOFFSETTO:+0100
TZNAME:CET
DTSTART:20241027T010000
END:STANDARD
BEGIN:DAYLIGHT
TZOFFSETFROM:+0100
TZOFFSETTO:+0200
TZNAME:CEST
DTSTART:20250330T010000
END:DAYLIGHT
BEGIN:STANDARD
TZOFFSETFROM:+0200
TZOFFSETTO:+0100
TZNAME:CET
DTSTART:20251026T010000
END:STANDARD
BEGIN:DAYLIGHT
TZOFFSETFROM:+0100
TZOFFSETTO:+0200
TZNAME:CEST
DTSTART:20260329T010000
END:DAYLIGHT
BEGIN:STANDARD
TZOFFSETFROM:+0200
TZOFFSETTO:+0100
TZNAME:CET
DTSTART:20261025T010000
END:STANDARD
END:VTIMEZONE
BEGIN:VEVENT
DTSTART;TZID=Europe/Amsterdam:20251022T190000
DTEND;TZID=Europe/Amsterdam:20251022T200000
DTSTAMP:20260421T010047
CREATED:20250805T102554Z
LAST-MODIFIED:20251012T112223Z
UID:30186-1761159600-1761163200@dvs-kotomisi.nl
SUMMARY:Training volwassenen: recreatief 20251022 19
DESCRIPTION:Let op: voor deze training is reserveren noodzakelijk. Je mag 1 x per week deelnemen aan een training. \nAttention: for this training session\, a reservation is required. Everyone can join 1 training session a week.
URL:https://dvs-kotomisi.nl/activiteit/training-volwassenen-recreatief-20251022-19/
LOCATION:Sporthal Hoograven\, Verlengde Hoogravenseweg 203\, Utrecht\, 3523 KJ\, Nederland
CATEGORIES:Recreatieve training
END:VEVENT
BEGIN:VEVENT
DTSTART;TZID=Europe/Amsterdam:20251022T200000
DTEND;TZID=Europe/Amsterdam:20251022T210000
DTSTAMP:20260421T010047
CREATED:20250805T103309Z
LAST-MODIFIED:20251012T112247Z
UID:30221-1761163200-1761166800@dvs-kotomisi.nl
SUMMARY:Training volwassenen: recreatief 20251022 20
DESCRIPTION:Let op: voor deze training is reserveren noodzakelijk. Je mag 1 x per week deelnemen aan een training. \nAttention: for this training session\, a reservation is required. Everyone can join 1 training session a week.
URL:https://dvs-kotomisi.nl/activiteit/training-volwassenen-recreatief-20251022-20/
LOCATION:Sporthal Hoograven\, Verlengde Hoogravenseweg 203\, Utrecht\, 3523 KJ\, Nederland
CATEGORIES:Recreatieve training
END:VEVENT
END:VCALENDAR