BEGIN:VCALENDAR
VERSION:2.0
PRODID:-//DVS-Koto Misi - ECPv6.15.20//NONSGML v1.0//EN
CALSCALE:GREGORIAN
METHOD:PUBLISH
X-ORIGINAL-URL:https://dvs-kotomisi.nl
X-WR-CALDESC:Evenementen voor DVS-Koto Misi
REFRESH-INTERVAL;VALUE=DURATION:PT1H
X-Robots-Tag:noindex
X-PUBLISHED-TTL:PT1H
BEGIN:VTIMEZONE
TZID:Europe/Amsterdam
BEGIN:DAYLIGHT
TZOFFSETFROM:+0100
TZOFFSETTO:+0200
TZNAME:CEST
DTSTART:20240331T010000
END:DAYLIGHT
BEGIN:STANDARD
TZOFFSETFROM:+0200
TZOFFSETTO:+0100
TZNAME:CET
DTSTART:20241027T010000
END:STANDARD
BEGIN:DAYLIGHT
TZOFFSETFROM:+0100
TZOFFSETTO:+0200
TZNAME:CEST
DTSTART:20250330T010000
END:DAYLIGHT
BEGIN:STANDARD
TZOFFSETFROM:+0200
TZOFFSETTO:+0100
TZNAME:CET
DTSTART:20251026T010000
END:STANDARD
BEGIN:DAYLIGHT
TZOFFSETFROM:+0100
TZOFFSETTO:+0200
TZNAME:CEST
DTSTART:20260329T010000
END:DAYLIGHT
BEGIN:STANDARD
TZOFFSETFROM:+0200
TZOFFSETTO:+0100
TZNAME:CET
DTSTART:20261025T010000
END:STANDARD
END:VTIMEZONE
BEGIN:VEVENT
DTSTART;TZID=Europe/Amsterdam:20251206T123000
DTEND;TZID=Europe/Amsterdam:20251206T153000
DTSTAMP:20260424T041115
CREATED:20250805T111456Z
LAST-MODIFIED:20250805T111456Z
UID:30554-1765024200-1765035000@dvs-kotomisi.nl
SUMMARY:Competitiewedstrijden jeugd
DESCRIPTION:Vanaf 12:30 uur starten de jeugdteams. Toegang voor publiek is gratis.
URL:https://dvs-kotomisi.nl/activiteit/competitiewedstrijden-jeugd-7/
LOCATION:Sporthal Hoograven\, Verlengde Hoogravenseweg 203\, Utrecht\, 3523 KJ\, Nederland
CATEGORIES:Competitie
END:VEVENT
BEGIN:VEVENT
DTSTART;TZID=Europe/Amsterdam:20251213T123000
DTEND;TZID=Europe/Amsterdam:20251213T183000
DTSTAMP:20260424T041115
CREATED:20250805T111426Z
LAST-MODIFIED:20250805T111426Z
UID:30545-1765629000-1765650600@dvs-kotomisi.nl
SUMMARY:Competitiewedstrijden
DESCRIPTION:Toegang voor publiek is gratis.
URL:https://dvs-kotomisi.nl/activiteit/competitiewedstrijden-74/
LOCATION:Sporthal Hoograven\, Verlengde Hoogravenseweg 203\, Utrecht\, 3523 KJ\, Nederland
CATEGORIES:Competitie
END:VEVENT
BEGIN:VEVENT
DTSTART;TZID=Europe/Amsterdam:20251220T123000
DTEND;TZID=Europe/Amsterdam:20251220T183000
DTSTAMP:20260424T041115
CREATED:20250805T111426Z
LAST-MODIFIED:20250805T111426Z
UID:30546-1766233800-1766255400@dvs-kotomisi.nl
SUMMARY:Competitiewedstrijden
DESCRIPTION:Vanaf 12:30 uur starten de jeugdteams. Toegang voor publiek is gratis.
URL:https://dvs-kotomisi.nl/activiteit/competitiewedstrijden-75/
LOCATION:Sporthal Hoograven\, Verlengde Hoogravenseweg 203\, Utrecht\, 3523 KJ\, Nederland
CATEGORIES:Competitie
END:VEVENT
END:VCALENDAR