BEGIN:VCALENDAR
VERSION:2.0
PRODID:-//DVS-Koto Misi - ECPv6.15.20//NONSGML v1.0//EN
CALSCALE:GREGORIAN
METHOD:PUBLISH
X-WR-CALNAME:DVS-Koto Misi
X-ORIGINAL-URL:https://dvs-kotomisi.nl
X-WR-CALDESC:Evenementen voor DVS-Koto Misi
REFRESH-INTERVAL;VALUE=DURATION:PT1H
X-Robots-Tag:noindex
X-PUBLISHED-TTL:PT1H
BEGIN:VTIMEZONE
TZID:Europe/Amsterdam
BEGIN:DAYLIGHT
TZOFFSETFROM:+0100
TZOFFSETTO:+0200
TZNAME:CEST
DTSTART:20250330T010000
END:DAYLIGHT
BEGIN:STANDARD
TZOFFSETFROM:+0200
TZOFFSETTO:+0100
TZNAME:CET
DTSTART:20251026T010000
END:STANDARD
BEGIN:DAYLIGHT
TZOFFSETFROM:+0100
TZOFFSETTO:+0200
TZNAME:CEST
DTSTART:20260329T010000
END:DAYLIGHT
BEGIN:STANDARD
TZOFFSETFROM:+0200
TZOFFSETTO:+0100
TZNAME:CET
DTSTART:20261025T010000
END:STANDARD
BEGIN:DAYLIGHT
TZOFFSETFROM:+0100
TZOFFSETTO:+0200
TZNAME:CEST
DTSTART:20270328T010000
END:DAYLIGHT
BEGIN:STANDARD
TZOFFSETFROM:+0200
TZOFFSETTO:+0100
TZNAME:CET
DTSTART:20271031T010000
END:STANDARD
END:VTIMEZONE
BEGIN:VEVENT
DTSTART;TZID=Europe/Amsterdam:20260424T180000
DTEND;TZID=Europe/Amsterdam:20260424T190000
DTSTAMP:20260424T013729
CREATED:20250805T110703Z
LAST-MODIFIED:20250805T110703Z
UID:30432-1777053600-1777057200@dvs-kotomisi.nl
SUMMARY:BadMINIton
DESCRIPTION:Spelen en bewegen voor kinderen van 3 tot en met 6 jaar. Kijk voor meer informatie op www.dvs-kotomisi.nl/badMINIton.
URL:https://dvs-kotomisi.nl/activiteit/badminiton-144/
LOCATION:Sporthal Bontekoelaan\, Bontekoelaan 1\, Utrecht\, 3526 RA\, Nederland
CATEGORIES:Jeugd
END:VEVENT
BEGIN:VEVENT
DTSTART;TZID=Europe/Amsterdam:20260424T180000
DTEND;TZID=Europe/Amsterdam:20260424T190000
DTSTAMP:20260424T013729
CREATED:20250805T110914Z
LAST-MODIFIED:20250805T110914Z
UID:30466-1777053600-1777057200@dvs-kotomisi.nl
SUMMARY:Training jeugd: beginners
DESCRIPTION:
URL:https://dvs-kotomisi.nl/activiteit/training-jeugd-beginners-282/
LOCATION:Sporthal Bontekoelaan\, Bontekoelaan 1\, Utrecht\, 3526 RA\, Nederland
CATEGORIES:Jeugd
END:VEVENT
BEGIN:VEVENT
DTSTART;TZID=Europe/Amsterdam:20260424T190000
DTEND;TZID=Europe/Amsterdam:20260424T203000
DTSTAMP:20260424T013729
CREATED:20250805T105616Z
LAST-MODIFIED:20260422T122056Z
UID:30319-1777057200-1777062600@dvs-kotomisi.nl
SUMMARY:Training volwassenen: recreatief 20260424 19
DESCRIPTION:Let op: voor deze training is reserveren noodzakelijk. Je mag 1 x per week deelnemen aan een training. \nAttention: for this training session\, a reservation is required. Everyone can join 1 training session a week.
URL:https://dvs-kotomisi.nl/activiteit/training-volwassenen-recreatief-20260424-19/
LOCATION:Sporthal Bontekoelaan\, Bontekoelaan 1\, Utrecht\, 3526 RA\, Nederland
CATEGORIES:Recreatieve training
END:VEVENT
BEGIN:VEVENT
DTSTART;TZID=Europe/Amsterdam:20260424T190000
DTEND;TZID=Europe/Amsterdam:20260424T203000
DTSTAMP:20260424T013729
CREATED:20250805T110002Z
LAST-MODIFIED:20250805T110002Z
UID:30395-1777057200-1777062600@dvs-kotomisi.nl
SUMMARY:Tweede training volwassenen (blok 2)
DESCRIPTION:Deelnemen aan deze training kan alleen op inschrijving vooraf en met aanvullende betaling bovenop je contributie. Je ontvangt een e-mail met meer informatie.
URL:https://dvs-kotomisi.nl/activiteit/tweede-training-volwassenen-blok-2-52/
LOCATION:Sporthal Bontekoelaan\, Bontekoelaan 1\, Utrecht\, 3526 RA\, Nederland
CATEGORIES:Tweede badmintontraining
END:VEVENT
BEGIN:VEVENT
DTSTART;TZID=Europe/Amsterdam:20260424T203000
DTEND;TZID=Europe/Amsterdam:20260424T220000
DTSTAMP:20260424T013729
CREATED:20250805T105816Z
LAST-MODIFIED:20250805T105816Z
UID:30357-1777062600-1777068000@dvs-kotomisi.nl
SUMMARY:Vrij spelen
DESCRIPTION:
URL:https://dvs-kotomisi.nl/activiteit/vrij-spelen-835/
LOCATION:Sporthal Bontekoelaan\, Bontekoelaan 1\, Utrecht\, 3526 RA\, Nederland
CATEGORIES:Vrij spelen
END:VEVENT
END:VCALENDAR